Workbook

Sheet Conoce HoraClara
B33: =HYPERLINK("https://horaclara.com/agendar","Agenda tu demo gratis en horaclara.com/agendar →") -> Agenda tu demo gratis en horaclara.com/agendar →

Sheet Turnos
A1: HoraClara · Horas extras por marcaciones 2026 | E1: =HYPERLINK("#'Resumen'!A1","Total por empleado en «Resumen» →") -> Total por empleado en «Resumen» →
A2: Una fila por turno. Entrada y salida con fecha y hora, por ejemplo 23/08/2026 23:15. Las filas amarillas son ejemplos: escribe encima o bórralas. | E2: Festivos en «Festivos 2026»; jornada, divisor y factores por fecha en «Parámetros».
A3: Empleado | B3: Cédula | C3: Salario mensual | D3: Total a pagar | E3: Entrada | F3: Salida | G3: Descanso (min) | H3: Compensatorio (Sí/No) | I3: Horas trabajadas | J3: Valor hora | K3: HE diurna (horas) | L3: HE nocturna (horas) | M3: Recargo nocturno (horas) | N3: Dominical con compensatorio (horas) | O3: Dominical o festivo sin compensatorio (horas) | P3: Nocturno dominical con compensatorio (horas) | Q3: Nocturno dominical o festivo sin compensatorio (horas) | R3: HE dominical diurna (horas) | S3: HE dominical nocturna (horas) | T3: calc ok | U3: calc per | V3: calc lim | W3: calc dur | X3: calc brk | Y3: calc bs | Z3: calc be | AA3: calc tc | AB3: calc m | AC3: calc h1 | AD3: calc h2 | AE3: calc bo | AF3: calc OL1 | AG3: calc ON1 | AH3: calc OL2 | AI3: calc ON2 | AJ3: calc XL1 | AK3: calc XN1 | AL3: calc XL2 | AM3: calc XN2 | AN3: calc BL1 | AO3: calc BN1 | AP3: calc BL2 | AQ3: calc BN2 | AR3: calc od1 | AS3: calc on1 | AT3: calc xd1 | AU3: calc xn1 | AV3: calc od2 | AW3: calc on2 | AX3: calc xd2 | AY3: calc xn2
A4: Ana — cocinera | B4: 1001 | C4: 1750905 | D4: =IF(J4="","",J4*(K4*INDEX('Parámetros'!$E$5:$E$7,U4)+L4*INDEX('Parámetros'!$F$5:$F$7,U4)+M4*INDEX('Parámetros'!$G$5:$G$7,U4)+N4*INDEX('Parámetros'!$H$5:$H$7,U4)+O4*INDEX('Parámetros'!$I$5:$I$7,U4)+P4*INDEX('Parámetros'!$J$5:$J$7,U4)+Q4*INDEX('Parámetros'!$K$5:$K$7,U4)+R4*INDEX('Parámetros'!$L$5:$L$7,U4)+S4*INDEX('Parámetros'!$M$5:$M$7,U4))) | E4: 46258.333 | F4: 46258.708 | G4: 60 | H4: No | I4: =IF(AND(E4="",F4=""),"",IF(T4=1,(W4-X4)/60,"Revisa entrada y salida")) | J4: =IF(OR(T4<>1,C4=""),"",C4/INDEX('Parámetros'!$D$5:$D$7,U4)) | K4: =IF(T4=1,ROUND(1440*((1-AC4)*AT4+(1-AD4)*AX4),0)/60,"") | L4: =IF(T4=1,ROUND(1440*((1-AC4)*AU4+(1-AD4)*AY4),0)/60,"") | M4: =IF(T4=1,ROUND(1440*((1-AC4)*AS4+(1-AD4)*AW4),0)/60,"") | N4: =IF(T4=1,ROUND(1440*(IF(OR(H4="Sí",H4="Si",AC4=0),AC4*AR4+AD4*AV4,0)),0)/60,"") | O4: =IF(T4=1,ROUND(1440*(IF(OR(H4="Sí",H4="Si",AC4=0),0,AC4*AR4+AD4*AV4)),0)/60,"") | P4: =IF(T4=1,ROUND(1440*(IF(OR(H4="Sí",H4="Si",AC4=0),AC4*AS4+AD4*AW4,0)),0)/60,"") | Q4: =IF(T4=1,ROUND(1440*(IF(OR(H4="Sí",H4="Si",AC4=0),0,AC4*AS4+AD4*AW4)),0)/60,"") | R4: =IF(T4=1,ROUND(1440*(AC4*AT4+AD4*AX4),0)/60,"") | S4: =IF(T4=1,ROUND(1440*(AC4*AU4+AD4*AY4),0)/60,"") | T4: =IF(AND(ISNUMBER(E4),ISNUMBER(F4)),IF(AND(F4>E4,YEAR(E4)=2026,(F4-E4)*1440<=1140),1,0),0) | U4: =IF(T4=1,MATCH(INT(E4),'Parámetros'!$A$5:$A$7,1),"") | V4: =IF(T4=1,INDEX('Parámetros'!$C$5:$C$7,U4)/24,"") | W4: =IF(T4=1,ROUND((F4-E4)*1440,0),"") | X4: =IF(T4=1,MIN(N(G4),W4),"") | Y4: =IF(T4=1,E4+(INT(W4/2)-INT(X4/2))/1440,"") | Z4: =IF(T4=1,Y4+X4/1440,"") | AA4: =IF(T4=1,MIN(F4,IF(E4+V4<=Y4,E4+V4,E4+V4+X4/1440)),"") | AB4: =IF(T4=1,INT(E4)+1,"") | AC4: =IF(T4=1,IF(OR(WEEKDAY(AB4-1)=1,COUNTIF('Festivos 2026'!$A$5:$A$40,AB4-1)>0),1,0),"") | AD4: =IF(T4=1,IF(OR(WEEKDAY(AB4)=1,COUNTIF('Festivos 2026'!$A$5:$A$40,AB4)>0),1,0),"") | AE4: =IF(T4=1,IF(Z4<=AA4,1,0),"") | AF4: =IF(T4=1,MAX(0,MIN(AA4,AB4)-E4),"") | AG4: =IF(T4=1,MAX(0,MIN(MIN(AA4,AB4),(AB4-1)+6/24)-E4)+MAX(0,MIN(AA4,AB4)-MAX(E4,(AB4-1)+19/24)),"") | AH4: =IF(T4=1,MAX(0,AA4-MAX(E4,AB4)),"") | AI4: =IF(T4=1,MAX(0,MIN(AA4,AB4+6/24)-MAX(E4,AB4))+MAX(0,AA4-MAX(MAX(E4,AB4),AB4+19/24)),"") | AJ4: =IF(T4=1,MAX(0,MIN(F4,AB4)-AA4),"") | AK4: =IF(T4=1,MAX(0,MIN(MIN(F4,AB4),(AB4-1)+6/24)-AA4)+MAX(0,MIN(F4,AB4)-MAX(AA4,(AB4-1)+19/24)),"") | AL4: =IF(T4=1,MAX(0,F4-MAX(AA4,AB4)),"") | AM4: =IF(T4=1,MAX(0,MIN(F4,AB4+6/24)-MAX(AA4,AB4))+MAX(0,F4-MAX(MAX(AA4,AB4),AB4+19/24)),"") | AN4: =IF(T4=1,MAX(0,MIN(Z4,AB4)-Y4),"") | AO4: =IF(T4=1,MAX(0,MIN(MIN(Z4,AB4),(AB4-1)+6/24)-Y4)+MAX(0,MIN(Z4,AB4)-MAX(Y4,(AB4-1)+19/24)),"") | AP4: =IF(T4=1,MAX(0,Z4-MAX(Y4,AB4)),"") | AQ4: =IF(T4=1,MAX(0,MIN(Z4,AB4+6/24)-MAX(Y4,AB4))+MAX(0,Z4-MAX(MAX(Y4,AB4),AB4+19/24)),"") | AR4: =IF(T4=1,(AF4-AG4)-AE4*(AN4-AO4),"") | AS4: =IF(T4=1,AG4-AE4*AO4,"") | AT4: =IF(T4=1,(AJ4-AK4)-(1-AE4)*(AN4-AO4),"") | AU4: =IF(T4=1,AK4-(1-AE4)*AO4,"") | AV4: =IF(T4=1,(AH4-AI4)-AE4*(AP4-AQ4),"") | AW4: =IF(T4=1,AI4-AE4*AQ4,"") | AX4: =IF(T4=1,(AL4-AM4)-(1-AE4)*(AP4-AQ4),"") | AY4: =IF(T4=1,AM4-(1-AE4)*AQ4,"")
A5: Luis — vigilante | B5: 1002 | C5: 1900000 | D5: =IF(J5="","",J5*(K5*INDEX('Parámetros'!$E$5:$E$7,U5)+L5*INDEX('Parámetros'!$F$5:$F$7,U5)+M5*INDEX('Parámetros'!$G$5:$G$7,U5)+N5*INDEX('Parámetros'!$H$5:$H$7,U5)+O5*INDEX('Parámetros'!$I$5:$I$7,U5)+P5*INDEX('Parámetros'!$J$5:$J$7,U5)+Q5*INDEX('Parámetros'!$K$5:$K$7,U5)+R5*INDEX('Parámetros'!$L$5:$L$7,U5)+S5*INDEX('Parámetros'!$M$5:$M$7,U5))) | E5: 46256.75 | F5: 46257.083 | H5: No | I5: =IF(AND(E5="",F5=""),"",IF(T5=1,(W5-X5)/60,"Revisa entrada y salida")) | J5: =IF(OR(T5<>1,C5=""),"",C5/INDEX('Parámetros'!$D$5:$D$7,U5)) | K5: =IF(T5=1,ROUND(1440*((1-AC5)*AT5+(1-AD5)*AX5),0)/60,"") | L5: =IF(T5=1,ROUND(1440*((1-AC5)*AU5+(1-AD5)*AY5),0)/60,"") | M5: =IF(T5=1,ROUND(1440*((1-AC5)*AS5+(1-AD5)*AW5),0)/60,"") | N5: =IF(T5=1,ROUND(1440*(IF(OR(H5="Sí",H5="Si",AC5=0),AC5*AR5+AD5*AV5,0)),0)/60,"") | O5: =IF(T5=1,ROUND(1440*(IF(OR(H5="Sí",H5="Si",AC5=0),0,AC5*AR5+AD5*AV5)),0)/60,"") | P5: =IF(T5=1,ROUND(1440*(IF(OR(H5="Sí",H5="Si",AC5=0),AC5*AS5+AD5*AW5,0)),0)/60,"") | Q5: =IF(T5=1,ROUND(1440*(IF(OR(H5="Sí",H5="Si",AC5=0),0,AC5*AS5+AD5*AW5)),0)/60,"") | R5: =IF(T5=1,ROUND(1440*(AC5*AT5+AD5*AX5),0)/60,"") | S5: =IF(T5=1,ROUND(1440*(AC5*AU5+AD5*AY5),0)/60,"") | T5: =IF(AND(ISNUMBER(E5),ISNUMBER(F5)),IF(AND(F5>E5,YEAR(E5)=2026,(F5-E5)*1440<=1140),1,0),0) | U5: =IF(T5=1,MATCH(INT(E5),'Parámetros'!$A$5:$A$7,1),"") | V5: =IF(T5=1,INDEX('Parámetros'!$C$5:$C$7,U5)/24,"") | W5: =IF(T5=1,ROUND((F5-E5)*1440,0),"") | X5: =IF(T5=1,MIN(N(G5),W5),"") | Y5: =IF(T5=1,E5+(INT(W5/2)-INT(X5/2))/1440,"") | Z5: =IF(T5=1,Y5+X5/1440,"") | AA5: =IF(T5=1,MIN(F5,IF(E5+V5<=Y5,E5+V5,E5+V5+X5/1440)),"") | AB5: =IF(T5=1,INT(E5)+1,"") | AC5: =IF(T5=1,IF(OR(WEEKDAY(AB5-1)=1,COUNTIF('Festivos 2026'!$A$5:$A$40,AB5-1)>0),1,0),"") | AD5: =IF(T5=1,IF(OR(WEEKDAY(AB5)=1,COUNTIF('Festivos 2026'!$A$5:$A$40,AB5)>0),1,0),"") | AE5: =IF(T5=1,IF(Z5<=AA5,1,0),"") | AF5: =IF(T5=1,MAX(0,MIN(AA5,AB5)-E5),"") | AG5: =IF(T5=1,MAX(0,MIN(MIN(AA5,AB5),(AB5-1)+6/24)-E5)+MAX(0,MIN(AA5,AB5)-MAX(E5,(AB5-1)+19/24)),"") | AH5: =IF(T5=1,MAX(0,AA5-MAX(E5,AB5)),"") | AI5: =IF(T5=1,MAX(0,MIN(AA5,AB5+6/24)-MAX(E5,AB5))+MAX(0,AA5-MAX(MAX(E5,AB5),AB5+19/24)),"") | AJ5: =IF(T5=1,MAX(0,MIN(F5,AB5)-AA5),"") | AK5: =IF(T5=1,MAX(0,MIN(MIN(F5,AB5),(AB5-1)+6/24)-AA5)+MAX(0,MIN(F5,AB5)-MAX(AA5,(AB5-1)+19/24)),"") | AL5: =IF(T5=1,MAX(0,F5-MAX(AA5,AB5)),"") | AM5: =IF(T5=1,MAX(0,MIN(F5,AB5+6/24)-MAX(AA5,AB5))+MAX(0,F5-MAX(MAX(AA5,AB5),AB5+19/24)),"") | AN5: =IF(T5=1,MAX(0,MIN(Z5,AB5)-Y5),"") | AO5: =IF(T5=1,MAX(0,MIN(MIN(Z5,AB5),(AB5-1)+6/24)-Y5)+MAX(0,MIN(Z5,AB5)-MAX(Y5,(AB5-1)+19/24)),"") | AP5: =IF(T5=1,MAX(0,Z5-MAX(Y5,AB5)),"") | AQ5: =IF(T5=1,MAX(0,MIN(Z5,AB5+6/24)-MAX(Y5,AB5))+MAX(0,Z5-MAX(MAX(Y5,AB5),AB5+19/24)),"") | AR5: =IF(T5=1,(AF5-AG5)-AE5*(AN5-AO5),"") | AS5: =IF(T5=1,AG5-AE5*AO5,"") | AT5: =IF(T5=1,(AJ5-AK5)-(1-AE5)*(AN5-AO5),"") | AU5: =IF(T5=1,AK5-(1-AE5)*AO5,"") | AV5: =IF(T5=1,(AH5-AI5)-AE5*(AP5-AQ5),"") | AW5: =IF(T5=1,AI5-AE5*AQ5,"") | AX5: =IF(T5=1,(AL5-AM5)-(1-AE5)*(AP5-AQ5),"") | AY5: =IF(T5=1,AM5-(1-AE5)*AQ5,"")
A6: Luis — vigilante | B6: 1002 | C6: 1900000 | D6: =IF(J6="","",J6*(K6*INDEX('Parámetros'!$E$5:$E$7,U6)+L6*INDEX('Parámetros'!$F$5:$F$7,U6)+M6*INDEX('Parámetros'!$G$5:$G$7,U6)+N6*INDEX('Parámetros'!$H$5:$H$7,U6)+O6*INDEX('Parámetros'!$I$5:$I$7,U6)+P6*INDEX('Parámetros'!$J$5:$J$7,U6)+Q6*INDEX('Parámetros'!$K$5:$K$7,U6)+R6*INDEX('Parámetros'!$L$5:$L$7,U6)+S6*INDEX('Parámetros'!$M$5:$M$7,U6))) | E6: 46257.969 | F6: 46258.292 | H6: No | I6: =IF(AND(E6="",F6=""),"",IF(T6=1,(W6-X6)/60,"Revisa entrada y salida")) | J6: =IF(OR(T6<>1,C6=""),"",C6/INDEX('Parámetros'!$D$5:$D$7,U6)) | K6: =IF(T6=1,ROUND(1440*((1-AC6)*AT6+(1-AD6)*AX6),0)/60,"") | L6: =IF(T6=1,ROUND(1440*((1-AC6)*AU6+(1-AD6)*AY6),0)/60,"") | M6: =IF(T6=1,ROUND(1440*((1-AC6)*AS6+(1-AD6)*AW6),0)/60,"") | N6: =IF(T6=1,ROUND(1440*(IF(OR(H6="Sí",H6="Si",AC6=0),AC6*AR6+AD6*AV6,0)),0)/60,"") | O6: =IF(T6=1,ROUND(1440*(IF(OR(H6="Sí",H6="Si",AC6=0),0,AC6*AR6+AD6*AV6)),0)/60,"") | P6: =IF(T6=1,ROUND(1440*(IF(OR(H6="Sí",H6="Si",AC6=0),AC6*AS6+AD6*AW6,0)),0)/60,"") | Q6: =IF(T6=1,ROUND(1440*(IF(OR(H6="Sí",H6="Si",AC6=0),0,AC6*AS6+AD6*AW6)),0)/60,"") | R6: =IF(T6=1,ROUND(1440*(AC6*AT6+AD6*AX6),0)/60,"") | S6: =IF(T6=1,ROUND(1440*(AC6*AU6+AD6*AY6),0)/60,"") | T6: =IF(AND(ISNUMBER(E6),ISNUMBER(F6)),IF(AND(F6>E6,YEAR(E6)=2026,(F6-E6)*1440<=1140),1,0),0) | U6: =IF(T6=1,MATCH(INT(E6),'Parámetros'!$A$5:$A$7,1),"") | V6: =IF(T6=1,INDEX('Parámetros'!$C$5:$C$7,U6)/24,"") | W6: =IF(T6=1,ROUND((F6-E6)*1440,0),"") | X6: =IF(T6=1,MIN(N(G6),W6),"") | Y6: =IF(T6=1,E6+(INT(W6/2)-INT(X6/2))/1440,"") | Z6: =IF(T6=1,Y6+X6/1440,"") | AA6: =IF(T6=1,MIN(F6,IF(E6+V6<=Y6,E6+V6,E6+V6+X6/1440)),"") | AB6: =IF(T6=1,INT(E6)+1,"") | AC6: =IF(T6=1,IF(OR(WEEKDAY(AB6-1)=1,COUNTIF('Festivos 2026'!$A$5:$A$40,AB6-1)>0),1,0),"") | AD6: =IF(T6=1,IF(OR(WEEKDAY(AB6)=1,COUNTIF('Festivos 2026'!$A$5:$A$40,AB6)>0),1,0),"") | AE6: =IF(T6=1,IF(Z6<=AA6,1,0),"") | AF6: =IF(T6=1,MAX(0,MIN(AA6,AB6)-E6),"") | AG6: =IF(T6=1,MAX(0,MIN(MIN(AA6,AB6),(AB6-1)+6/24)-E6)+MAX(0,MIN(AA6,AB6)-MAX(E6,(AB6-1)+19/24)),"") | AH6: =IF(T6=1,MAX(0,AA6-MAX(E6,AB6)),"") | AI6: =IF(T6=1,MAX(0,MIN(AA6,AB6+6/24)-MAX(E6,AB6))+MAX(0,AA6-MAX(MAX(E6,AB6),AB6+19/24)),"") | AJ6: =IF(T6=1,MAX(0,MIN(F6,AB6)-AA6),"") | AK6: =IF(T6=1,MAX(0,MIN(MIN(F6,AB6),(AB6-1)+6/24)-AA6)+MAX(0,MIN(F6,AB6)-MAX(AA6,(AB6-1)+19/24)),"") | AL6: =IF(T6=1,MAX(0,F6-MAX(AA6,AB6)),"") | AM6: =IF(T6=1,MAX(0,MIN(F6,AB6+6/24)-MAX(AA6,AB6))+MAX(0,F6-MAX(MAX(AA6,AB6),AB6+19/24)),"") | AN6: =IF(T6=1,MAX(0,MIN(Z6,AB6)-Y6),"") | AO6: =IF(T6=1,MAX(0,MIN(MIN(Z6,AB6),(AB6-1)+6/24)-Y6)+MAX(0,MIN(Z6,AB6)-MAX(Y6,(AB6-1)+19/24)),"") | AP6: =IF(T6=1,MAX(0,Z6-MAX(Y6,AB6)),"") | AQ6: =IF(T6=1,MAX(0,MIN(Z6,AB6+6/24)-MAX(Y6,AB6))+MAX(0,Z6-MAX(MAX(Y6,AB6),AB6+19/24)),"") | AR6: =IF(T6=1,(AF6-AG6)-AE6*(AN6-AO6),"") | AS6: =IF(T6=1,AG6-AE6*AO6,"") | AT6: =IF(T6=1,(AJ6-AK6)-(1-AE6)*(AN6-AO6),"") | AU6: =IF(T6=1,AK6-(1-AE6)*AO6,"") | AV6: =IF(T6=1,(AH6-AI6)-AE6*(AP6-AQ6),"") | AW6: =IF(T6=1,AI6-AE6*AQ6,"") | AX6: =IF(T6=1,(AL6-AM6)-(1-AE6)*(AP6-AQ6),"") | AY6: =IF(T6=1,AM6-(1-AE6)*AQ6,"")
A7: Marta — mesera | B7: 1003 | C7: 2100000 | D7: =IF(J7="","",J7*(K7*INDEX('Parámetros'!$E$5:$E$7,U7)+L7*INDEX('Parámetros'!$F$5:$F$7,U7)+M7*INDEX('Parámetros'!$G$5:$G$7,U7)+N7*INDEX('Parámetros'!$H$5:$H$7,U7)+O7*INDEX('Parámetros'!$I$5:$I$7,U7)+P7*INDEX('Parámetros'!$J$5:$J$7,U7)+Q7*INDEX('Parámetros'!$K$5:$K$7,U7)+R7*INDEX('Parámetros'!$L$5:$L$7,U7)+S7*INDEX('Parámetros'!$M$5:$M$7,U7))) | E7: 46223.333 | F7: 46223.708 | H7: Sí | I7: =IF(AND(E7="",F7=""),"",IF(T7=1,(W7-X7)/60,"Revisa entrada y salida")) | J7: =IF(OR(T7<>1,C7=""),"",C7/INDEX('Parámetros'!$D$5:$D$7,U7)) | K7: =IF(T7=1,ROUND(1440*((1-AC7)*AT7+(1-AD7)*AX7),0)/60,"") | L7: =IF(T7=1,ROUND(1440*((1-AC7)*AU7+(1-AD7)*AY7),0)/60,"") | M7: =IF(T7=1,ROUND(1440*((1-AC7)*AS7+(1-AD7)*AW7),0)/60,"") | N7: =IF(T7=1,ROUND(1440*(IF(OR(H7="Sí",H7="Si",AC7=0),AC7*AR7+AD7*AV7,0)),0)/60,"") | O7: =IF(T7=1,ROUND(1440*(IF(OR(H7="Sí",H7="Si",AC7=0),0,AC7*AR7+AD7*AV7)),0)/60,"") | P7: =IF(T7=1,ROUND(1440*(IF(OR(H7="Sí",H7="Si",AC7=0),AC7*AS7+AD7*AW7,0)),0)/60,"") | Q7: =IF(T7=1,ROUND(1440*(IF(OR(H7="Sí",H7="Si",AC7=0),0,AC7*AS7+AD7*AW7)),0)/60,"") | R7: =IF(T7=1,ROUND(1440*(AC7*AT7+AD7*AX7),0)/60,"") | S7: =IF(T7=1,ROUND(1440*(AC7*AU7+AD7*AY7),0)/60,"") | T7: =IF(AND(ISNUMBER(E7),ISNUMBER(F7)),IF(AND(F7>E7,YEAR(E7)=2026,(F7-E7)*1440<=1140),1,0),0) | U7: =IF(T7=1,MATCH(INT(E7),'Parámetros'!$A$5:$A$7,1),"") | V7: =IF(T7=1,INDEX('Parámetros'!$C$5:$C$7,U7)/24,"") | W7: =IF(T7=1,ROUND((F7-E7)*1440,0),"") | X7: =IF(T7=1,MIN(N(G7),W7),"") | Y7: =IF(T7=1,E7+(INT(W7/2)-INT(X7/2))/1440,"") | Z7: =IF(T7=1,Y7+X7/1440,"") | AA7: =IF(T7=1,MIN(F7,IF(E7+V7<=Y7,E7+V7,E7+V7+X7/1440)),"") | AB7: =IF(T7=1,INT(E7)+1,"") | AC7: =IF(T7=1,IF(OR(WEEKDAY(AB7-1)=1,COUNTIF('Festivos 2026'!$A$5:$A$40,AB7-1)>0),1,0),"") | AD7: =IF(T7=1,IF(OR(WEEKDAY(AB7)=1,COUNTIF('Festivos 2026'!$A$5:$A$40,AB7)>0),1,0),"") | AE7: =IF(T7=1,IF(Z7<=AA7,1,0),"") | AF7: =IF(T7=1,MAX(0,MIN(AA7,AB7)-E7),"") | AG7: =IF(T7=1,MAX(0,MIN(MIN(AA7,AB7),(AB7-1)+6/24)-E7)+MAX(0,MIN(AA7,AB7)-MAX(E7,(AB7-1)+19/24)),"") | AH7: =IF(T7=1,MAX(0,AA7-MAX(E7,AB7)),"") | AI7: =IF(T7=1,MAX(0,MIN(AA7,AB7+6/24)-MAX(E7,AB7))+MAX(0,AA7-MAX(MAX(E7,AB7),AB7+19/24)),"") | AJ7: =IF(T7=1,MAX(0,MIN(F7,AB7)-AA7),"") | AK7: =IF(T7=1,MAX(0,MIN(MIN(F7,AB7),(AB7-1)+6/24)-AA7)+MAX(0,MIN(F7,AB7)-MAX(AA7,(AB7-1)+19/24)),"") | AL7: =IF(T7=1,MAX(0,F7-MAX(AA7,AB7)),"") | AM7: =IF(T7=1,MAX(0,MIN(F7,AB7+6/24)-MAX(AA7,AB7))+MAX(0,F7-MAX(MAX(AA7,AB7),AB7+19/24)),"") | AN7: =IF(T7=1,MAX(0,MIN(Z7,AB7)-Y7),"") | AO7: =IF(T7=1,MAX(0,MIN(MIN(Z7,AB7),(AB7-1)+6/24)-Y7)+MAX(0,MIN(Z7,AB7)-MAX(Y7,(AB7-1)+19/24)),"") | AP7: =IF(T7=1,MAX(0,Z7-MAX(Y7,AB7)),"") | AQ7: =IF(T7=1,MAX(0,MIN(Z7,AB7+6/24)-MAX(Y7,AB7))+MAX(0,Z7-MAX(MAX(Y7,AB7),AB7+19/24)),"") | AR7: =IF(T7=1,(AF7-AG7)-AE7*(AN7-AO7),"") | AS7: =IF(T7=1,AG7-AE7*AO7,"") | AT7: =IF(T7=1,(AJ7-AK7)-(1-AE7)*(AN7-AO7),"") | AU7: =IF(T7=1,AK7-(1-AE7)*AO7,"") | AV7: =IF(T7=1,(AH7-AI7)-AE7*(AP7-AQ7),"") | AW7: =IF(T7=1,AI7-AE7*AQ7,"") | AX7: =IF(T7=1,(AL7-AM7)-(1-AE7)*(AP7-AQ7),"") | AY7: =IF(T7=1,AM7-(1-AE7)*AQ7,"")
A8: Marta — mesera | B8: 1003 | C8: 2100000 | D8: =IF(J8="","",J8*(K8*INDEX('Parámetros'!$E$5:$E$7,U8)+L8*INDEX('Parámetros'!$F$5:$F$7,U8)+M8*INDEX('Parámetros'!$G$5:$G$7,U8)+N8*INDEX('Parámetros'!$H$5:$H$7,U8)+O8*INDEX('Parámetros'!$I$5:$I$7,U8)+P8*INDEX('Parámetros'!$J$5:$J$7,U8)+Q8*INDEX('Parámetros'!$K$5:$K$7,U8)+R8*INDEX('Parámetros'!$L$5:$L$7,U8)+S8*INDEX('Parámetros'!$M$5:$M$7,U8))) | E8: 46202.333 | F8: 46202.708 | H8: No | I8: =IF(AND(E8="",F8=""),"",IF(T8=1,(W8-X8)/60,"Revisa entrada y salida")) | J8: =IF(OR(T8<>1,C8=""),"",C8/INDEX('Parámetros'!$D$5:$D$7,U8)) | K8: =IF(T8=1,ROUND(1440*((1-AC8)*AT8+(1-AD8)*AX8),0)/60,"") | L8: =IF(T8=1,ROUND(1440*((1-AC8)*AU8+(1-AD8)*AY8),0)/60,"") | M8: =IF(T8=1,ROUND(1440*((1-AC8)*AS8+(1-AD8)*AW8),0)/60,"") | N8: =IF(T8=1,ROUND(1440*(IF(OR(H8="Sí",H8="Si",AC8=0),AC8*AR8+AD8*AV8,0)),0)/60,"") | O8: =IF(T8=1,ROUND(1440*(IF(OR(H8="Sí",H8="Si",AC8=0),0,AC8*AR8+AD8*AV8)),0)/60,"") | P8: =IF(T8=1,ROUND(1440*(IF(OR(H8="Sí",H8="Si",AC8=0),AC8*AS8+AD8*AW8,0)),0)/60,"") | Q8: =IF(T8=1,ROUND(1440*(IF(OR(H8="Sí",H8="Si",AC8=0),0,AC8*AS8+AD8*AW8)),0)/60,"") | R8: =IF(T8=1,ROUND(1440*(AC8*AT8+AD8*AX8),0)/60,"") | S8: =IF(T8=1,ROUND(1440*(AC8*AU8+AD8*AY8),0)/60,"") | T8: =IF(AND(ISNUMBER(E8),ISNUMBER(F8)),IF(AND(F8>E8,YEAR(E8)=2026,(F8-E8)*1440<=1140),1,0),0) | U8: =IF(T8=1,MATCH(INT(E8),'Parámetros'!$A$5:$A$7,1),"") | V8: =IF(T8=1,INDEX('Parámetros'!$C$5:$C$7,U8)/24,"") | W8: =IF(T8=1,ROUND((F8-E8)*1440,0),"") | X8: =IF(T8=1,MIN(N(G8),W8),"") | Y8: =IF(T8=1,E8+(INT(W8/2)-INT(X8/2))/1440,"") | Z8: =IF(T8=1,Y8+X8/1440,"") | AA8: =IF(T8=1,MIN(F8,IF(E8+V8<=Y8,E8+V8,E8+V8+X8/1440)),"") | AB8: =IF(T8=1,INT(E8)+1,"") | AC8: =IF(T8=1,IF(OR(WEEKDAY(AB8-1)=1,COUNTIF('Festivos 2026'!$A$5:$A$40,AB8-1)>0),1,0),"") | AD8: =IF(T8=1,IF(OR(WEEKDAY(AB8)=1,COUNTIF('Festivos 2026'!$A$5:$A$40,AB8)>0),1,0),"") | AE8: =IF(T8=1,IF(Z8<=AA8,1,0),"") | AF8: =IF(T8=1,MAX(0,MIN(AA8,AB8)-E8),"") | AG8: =IF(T8=1,MAX(0,MIN(MIN(AA8,AB8),(AB8-1)+6/24)-E8)+MAX(0,MIN(AA8,AB8)-MAX(E8,(AB8-1)+19/24)),"") | AH8: =IF(T8=1,MAX(0,AA8-MAX(E8,AB8)),"") | AI8: =IF(T8=1,MAX(0,MIN(AA8,AB8+6/24)-MAX(E8,AB8))+MAX(0,AA8-MAX(MAX(E8,AB8),AB8+19/24)),"") | AJ8: =IF(T8=1,MAX(0,MIN(F8,AB8)-AA8),"") | AK8: =IF(T8=1,MAX(0,MIN(MIN(F8,AB8),(AB8-1)+6/24)-AA8)+MAX(0,MIN(F8,AB8)-MAX(AA8,(AB8-1)+19/24)),"") | AL8: =IF(T8=1,MAX(0,F8-MAX(AA8,AB8)),"") | AM8: =IF(T8=1,MAX(0,MIN(F8,AB8+6/24)-MAX(AA8,AB8))+MAX(0,F8-MAX(MAX(AA8,AB8),AB8+19/24)),"") | AN8: =IF(T8=1,MAX(0,MIN(Z8,AB8)-Y8),"") | AO8: =IF(T8=1,MAX(0,MIN(MIN(Z8,AB8),(AB8-1)+6/24)-Y8)+MAX(0,MIN(Z8,AB8)-MAX(Y8,(AB8-1)+19/24)),"") | AP8: =IF(T8=1,MAX(0,Z8-MAX(Y8,AB8)),"") | AQ8: =IF(T8=1,MAX(0,MIN(Z8,AB8+6/24)-MAX(Y8,AB8))+MAX(0,Z8-MAX(MAX(Y8,AB8),AB8+19/24)),"") | AR8: =IF(T8=1,(AF8-AG8)-AE8*(AN8-AO8),"") | AS8: =IF(T8=1,AG8-AE8*AO8,"") | AT8: =IF(T8=1,(AJ8-AK8)-(1-AE8)*(AN8-AO8),"") | AU8: =IF(T8=1,AK8-(1-AE8)*AO8,"") | AV8: =IF(T8=1,(AH8-AI8)-AE8*(AP8-AQ8),"") | AW8: =IF(T8=1,AI8-AE8*AQ8,"") | AX8: =IF(T8=1,(AL8-AM8)-(1-AE8)*(AP8-AQ8),"") | AY8: =IF(T8=1,AM8-(1-AE8)*AQ8,"")
A9: Luis — vigilante | B9: 1002 | C9: 2100000 | D9: =IF(J9="","",J9*(K9*INDEX('Parámetros'!$E$5:$E$7,U9)+L9*INDEX('Parámetros'!$F$5:$F$7,U9)+M9*INDEX('Parámetros'!$G$5:$G$7,U9)+N9*INDEX('Parámetros'!$H$5:$H$7,U9)+O9*INDEX('Parámetros'!$I$5:$I$7,U9)+P9*INDEX('Parámetros'!$J$5:$J$7,U9)+Q9*INDEX('Parámetros'!$K$5:$K$7,U9)+R9*INDEX('Parámetros'!$L$5:$L$7,U9)+S9*INDEX('Parámetros'!$M$5:$M$7,U9))) | E9: 46250.958 | F9: 46251.208 | H9: Sí | I9: =IF(AND(E9="",F9=""),"",IF(T9=1,(W9-X9)/60,"Revisa entrada y salida")) | J9: =IF(OR(T9<>1,C9=""),"",C9/INDEX('Parámetros'!$D$5:$D$7,U9)) | K9: =IF(T9=1,ROUND(1440*((1-AC9)*AT9+(1-AD9)*AX9),0)/60,"") | L9: =IF(T9=1,ROUND(1440*((1-AC9)*AU9+(1-AD9)*AY9),0)/60,"") | M9: =IF(T9=1,ROUND(1440*((1-AC9)*AS9+(1-AD9)*AW9),0)/60,"") | N9: =IF(T9=1,ROUND(1440*(IF(OR(H9="Sí",H9="Si",AC9=0),AC9*AR9+AD9*AV9,0)),0)/60,"") | O9: =IF(T9=1,ROUND(1440*(IF(OR(H9="Sí",H9="Si",AC9=0),0,AC9*AR9+AD9*AV9)),0)/60,"") | P9: =IF(T9=1,ROUND(1440*(IF(OR(H9="Sí",H9="Si",AC9=0),AC9*AS9+AD9*AW9,0)),0)/60,"") | Q9: =IF(T9=1,ROUND(1440*(IF(OR(H9="Sí",H9="Si",AC9=0),0,AC9*AS9+AD9*AW9)),0)/60,"") | R9: =IF(T9=1,ROUND(1440*(AC9*AT9+AD9*AX9),0)/60,"") | S9: =IF(T9=1,ROUND(1440*(AC9*AU9+AD9*AY9),0)/60,"") | T9: =IF(AND(ISNUMBER(E9),ISNUMBER(F9)),IF(AND(F9>E9,YEAR(E9)=2026,(F9-E9)*1440<=1140),1,0),0) | U9: =IF(T9=1,MATCH(INT(E9),'Parámetros'!$A$5:$A$7,1),"") | V9: =IF(T9=1,INDEX('Parámetros'!$C$5:$C$7,U9)/24,"") | W9: =IF(T9=1,ROUND((F9-E9)*1440,0),"") | X9: =IF(T9=1,MIN(N(G9),W9),"") | Y9: =IF(T9=1,E9+(INT(W9/2)-INT(X9/2))/1440,"") | Z9: =IF(T9=1,Y9+X9/1440,"") | AA9: =IF(T9=1,MIN(F9,IF(E9+V9<=Y9,E9+V9,E9+V9+X9/1440)),"") | AB9: =IF(T9=1,INT(E9)+1,"") | AC9: =IF(T9=1,IF(OR(WEEKDAY(AB9-1)=1,COUNTIF('Festivos 2026'!$A$5:$A$40,AB9-1)>0),1,0),"") | AD9: =IF(T9=1,IF(OR(WEEKDAY(AB9)=1,COUNTIF('Festivos 2026'!$A$5:$A$40,AB9)>0),1,0),"") | AE9: =IF(T9=1,IF(Z9<=AA9,1,0),"") | AF9: =IF(T9=1,MAX(0,MIN(AA9,AB9)-E9),"") | AG9: =IF(T9=1,MAX(0,MIN(MIN(AA9,AB9),(AB9-1)+6/24)-E9)+MAX(0,MIN(AA9,AB9)-MAX(E9,(AB9-1)+19/24)),"") | AH9: =IF(T9=1,MAX(0,AA9-MAX(E9,AB9)),"") | AI9: =IF(T9=1,MAX(0,MIN(AA9,AB9+6/24)-MAX(E9,AB9))+MAX(0,AA9-MAX(MAX(E9,AB9),AB9+19/24)),"") | AJ9: =IF(T9=1,MAX(0,MIN(F9,AB9)-AA9),"") | AK9: =IF(T9=1,MAX(0,MIN(MIN(F9,AB9),(AB9-1)+6/24)-AA9)+MAX(0,MIN(F9,AB9)-MAX(AA9,(AB9-1)+19/24)),"") | AL9: =IF(T9=1,MAX(0,F9-MAX(AA9,AB9)),"") | AM9: =IF(T9=1,MAX(0,MIN(F9,AB9+6/24)-MAX(AA9,AB9))+MAX(0,F9-MAX(MAX(AA9,AB9),AB9+19/24)),"") | AN9: =IF(T9=1,MAX(0,MIN(Z9,AB9)-Y9),"") | AO9: =IF(T9=1,MAX(0,MIN(MIN(Z9,AB9),(AB9-1)+6/24)-Y9)+MAX(0,MIN(Z9,AB9)-MAX(Y9,(AB9-1)+19/24)),"") | AP9: =IF(T9=1,MAX(0,Z9-MAX(Y9,AB9)),"") | AQ9: =IF(T9=1,MAX(0,MIN(Z9,AB9+6/24)-MAX(Y9,AB9))+MAX(0,Z9-MAX(MAX(Y9,AB9),AB9+19/24)),"") | AR9: =IF(T9=1,(AF9-AG9)-AE9*(AN9-AO9),"") | AS9: =IF(T9=1,AG9-AE9*AO9,"") | AT9: =IF(T9=1,(AJ9-AK9)-(1-AE9)*(AN9-AO9),"") | AU9: =IF(T9=1,AK9-(1-AE9)*AO9,"") | AV9: =IF(T9=1,(AH9-AI9)-AE9*(AP9-AQ9),"") | AW9: =IF(T9=1,AI9-AE9*AQ9,"") | AX9: =IF(T9=1,(AL9-AM9)-(1-AE9)*(AP9-AQ9),"") | AY9: =IF(T9=1,AM9-(1-AE9)*AQ9,"")
A10: Luis — vigilante | B10: 1002 | C10: 2100000 | D10: =IF(J10="","",J10*(K10*INDEX('Parámetros'!$E$5:$E$7,U10)+L10*INDEX('Parámetros'!$F$5:$F$7,U10)+M10*INDEX('Parámetros'!$G$5:$G$7,U10)+N10*INDEX('Parámetros'!$H$5:$H$7,U10)+O10*INDEX('Parámetros'!$I$5:$I$7,U10)+P10*INDEX('Parámetros'!$J$5:$J$7,U10)+Q10*INDEX('Parámetros'!$K$5:$K$7,U10)+R10*INDEX('Parámetros'!$L$5:$L$7,U10)+S10*INDEX('Parámetros'!$M$5:$M$7,U10))) | E10: 46250.958 | F10: 46251.208 | H10: No | I10: =IF(AND(E10="",F10=""),"",IF(T10=1,(W10-X10)/60,"Revisa entrada y salida")) | J10: =IF(OR(T10<>1,C10=""),"",C10/INDEX('Parámetros'!$D$5:$D$7,U10)) | K10: =IF(T10=1,ROUND(1440*((1-AC10)*AT10+(1-AD10)*AX10),0)/60,"") | L10: =IF(T10=1,ROUND(1440*((1-AC10)*AU10+(1-AD10)*AY10),0)/60,"") | M10: =IF(T10=1,ROUND(1440*((1-AC10)*AS10+(1-AD10)*AW10),0)/60,"") | N10: =IF(T10=1,ROUND(1440*(IF(OR(H10="Sí",H10="Si",AC10=0),AC10*AR10+AD10*AV10,0)),0)/60,"") | O10: =IF(T10=1,ROUND(1440*(IF(OR(H10="Sí",H10="Si",AC10=0),0,AC10*AR10+AD10*AV10)),0)/60,"") | P10: =IF(T10=1,ROUND(1440*(IF(OR(H10="Sí",H10="Si",AC10=0),AC10*AS10+AD10*AW10,0)),0)/60,"") | Q10: =IF(T10=1,ROUND(1440*(IF(OR(H10="Sí",H10="Si",AC10=0),0,AC10*AS10+AD10*AW10)),0)/60,"") | R10: =IF(T10=1,ROUND(1440*(AC10*AT10+AD10*AX10),0)/60,"") | S10: =IF(T10=1,ROUND(1440*(AC10*AU10+AD10*AY10),0)/60,"") | T10: =IF(AND(ISNUMBER(E10),ISNUMBER(F10)),IF(AND(F10>E10,YEAR(E10)=2026,(F10-E10)*1440<=1140),1,0),0) | U10: =IF(T10=1,MATCH(INT(E10),'Parámetros'!$A$5:$A$7,1),"") | V10: =IF(T10=1,INDEX('Parámetros'!$C$5:$C$7,U10)/24,"") | W10: =IF(T10=1,ROUND((F10-E10)*1440,0),"") | X10: =IF(T10=1,MIN(N(G10),W10),"") | Y10: =IF(T10=1,E10+(INT(W10/2)-INT(X10/2))/1440,"") | Z10: =IF(T10=1,Y10+X10/1440,"") | AA10: =IF(T10=1,MIN(F10,IF(E10+V10<=Y10,E10+V10,E10+V10+X10/1440)),"") | AB10: =IF(T10=1,INT(E10)+1,"") | AC10: =IF(T10=1,IF(OR(WEEKDAY(AB10-1)=1,COUNTIF('Festivos 2026'!$A$5:$A$40,AB10-1)>0),1,0),"") | AD10: =IF(T10=1,IF(OR(WEEKDAY(AB10)=1,COUNTIF('Festivos 2026'!$A$5:$A$40,AB10)>0),1,0),"") | AE10: =IF(T10=1,IF(Z10<=AA10,1,0),"") | AF10: =IF(T10=1,MAX(0,MIN(AA10,AB10)-E10),"") | AG10: =IF(T10=1,MAX(0,MIN(MIN(AA10,AB10),(AB10-1)+6/24)-E10)+MAX(0,MIN(AA10,AB10)-MAX(E10,(AB10-1)+19/24)),"") | AH10: =IF(T10=1,MAX(0,AA10-MAX(E10,AB10)),"") | AI10: =IF(T10=1,MAX(0,MIN(AA10,AB10+6/24)-MAX(E10,AB10))+MAX(0,AA10-MAX(MAX(E10,AB10),AB10+19/24)),"") | AJ10: =IF(T10=1,MAX(0,MIN(F10,AB10)-AA10),"") | AK10: =IF(T10=1,MAX(0,MIN(MIN(F10,AB10),(AB10-1)+6/24)-AA10)+MAX(0,MIN(F10,AB10)-MAX(AA10,(AB10-1)+19/24)),"") | AL10: =IF(T10=1,MAX(0,F10-MAX(AA10,AB10)),"") | AM10: =IF(T10=1,MAX(0,MIN(F10,AB10+6/24)-MAX(AA10,AB10))+MAX(0,F10-MAX(MAX(AA10,AB10),AB10+19/24)),"") | AN10: =IF(T10=1,MAX(0,MIN(Z10,AB10)-Y10),"") | AO10: =IF(T10=1,MAX(0,MIN(MIN(Z10,AB10),(AB10-1)+6/24)-Y10)+MAX(0,MIN(Z10,AB10)-MAX(Y10,(AB10-1)+19/24)),"") | AP10: =IF(T10=1,MAX(0,Z10-MAX(Y10,AB10)),"") | AQ10: =IF(T10=1,MAX(0,MIN(Z10,AB10+6/24)-MAX(Y10,AB10))+MAX(0,Z10-MAX(MAX(Y10,AB10),AB10+19/24)),"") | AR10: =IF(T10=1,(AF10-AG10)-AE10*(AN10-AO10),"") | AS10: =IF(T10=1,AG10-AE10*AO10,"") | AT10: =IF(T10=1,(AJ10-AK10)-(1-AE10)*(AN10-AO10),"") | AU10: =IF(T10=1,AK10-(1-AE10)*AO10,"") | AV10: =IF(T10=1,(AH10-AI10)-AE10*(AP10-AQ10),"") | AW10: =IF(T10=1,AI10-AE10*AQ10,"") | AX10: =IF(T10=1,(AL10-AM10)-(1-AE10)*(AP10-AQ10),"") | AY10: =IF(T10=1,AM10-(1-AE10)*AQ10,"")
D11: =IF(J11="","",J11*(K11*INDEX('Parámetros'!$E$5:$E$7,U11)+L11*INDEX('Parámetros'!$F$5:$F$7,U11)+M11*INDEX('Parámetros'!$G$5:$G$7,U11)+N11*INDEX('Parámetros'!$H$5:$H$7,U11)+O11*INDEX('Parámetros'!$I$5:$I$7,U11)+P11*INDEX('Parámetros'!$J$5:$J$7,U11)+Q11*INDEX('Parámetros'!$K$5:$K$7,U11)+R11*INDEX('Parámetros'!$L$5:$L$7,U11)+S11*INDEX('Parámetros'!$M$5:$M$7,U11))) | I11: =IF(AND(E11="",F11=""),"",IF(T11=1,(W11-X11)/60,"Revisa entrada y salida")) | J11: =IF(OR(T11<>1,C11=""),"",C11/INDEX('Parámetros'!$D$5:$D$7,U11)) | K11: =IF(T11=1,ROUND(1440*((1-AC11)*AT11+(1-AD11)*AX11),0)/60,"") | L11: =IF(T11=1,ROUND(1440*((1-AC11)*AU11+(1-AD11)*AY11),0)/60,"") | M11: =IF(T11=1,ROUND(1440*((1-AC11)*AS11+(1-AD11)*AW11),0)/60,"") | N11: =IF(T11=1,ROUND(1440*(IF(OR(H11="Sí",H11="Si",AC11=0),AC11*AR11+AD11*AV11,0)),0)/60,"") | O11: =IF(T11=1,ROUND(1440*(IF(OR(H11="Sí",H11="Si",AC11=0),0,AC11*AR11+AD11*AV11)),0)/60,"") | P11: =IF(T11=1,ROUND(1440*(IF(OR(H11="Sí",H11="Si",AC11=0),AC11*AS11+AD11*AW11,0)),0)/60,"") | Q11: =IF(T11=1,ROUND(1440*(IF(OR(H11="Sí",H11="Si",AC11=0),0,AC11*AS11+AD11*AW11)),0)/60,"") | R11: =IF(T11=1,ROUND(1440*(AC11*AT11+AD11*AX11),0)/60,"") | S11: =IF(T11=1,ROUND(1440*(AC11*AU11+AD11*AY11),0)/60,"") | T11: =IF(AND(ISNUMBER(E11),ISNUMBER(F11)),IF(AND(F11>E11,YEAR(E11)=2026,(F11-E11)*1440<=1140),1,0),0) | U11: =IF(T11=1,MATCH(INT(E11),'Parámetros'!$A$5:$A$7,1),"") | V11: =IF(T11=1,INDEX('Parámetros'!$C$5:$C$7,U11)/24,"") | W11: =IF(T11=1,ROUND((F11-E11)*1440,0),"") | X11: =IF(T11=1,MIN(N(G11),W11),"") | Y11: =IF(T11=1,E11+(INT(W11/2)-INT(X11/2))/1440,"") | Z11: =IF(T11=1,Y11+X11/1440,"") | AA11: =IF(T11=1,MIN(F11,IF(E11+V11<=Y11,E11+V11,E11+V11+X11/1440)),"") | AB11: =IF(T11=1,INT(E11)+1,"") | AC11: =IF(T11=1,IF(OR(WEEKDAY(AB11-1)=1,COUNTIF('Festivos 2026'!$A$5:$A$40,AB11-1)>0),1,0),"") | AD11: =IF(T11=1,IF(OR(WEEKDAY(AB11)=1,COUNTIF('Festivos 2026'!$A$5:$A$40,AB11)>0),1,0),"") | AE11: =IF(T11=1,IF(Z11<=AA11,1,0),"") | AF11: =IF(T11=1,MAX(0,MIN(AA11,AB11)-E11),"") | AG11: =IF(T11=1,MAX(0,MIN(MIN(AA11,AB11),(AB11-1)+6/24)-E11)+MAX(0,MIN(AA11,AB11)-MAX(E11,(AB11-1)+19/24)),"") | AH11: =IF(T11=1,MAX(0,AA11-MAX(E11,AB11)),"") | AI11: =IF(T11=1,MAX(0,MIN(AA11,AB11+6/24)-MAX(E11,AB11))+MAX(0,AA11-MAX(MAX(E11,AB11),AB11+19/24)),"") | AJ11: =IF(T11=1,MAX(0,MIN(F11,AB11)-AA11),"") | AK11: =IF(T11=1,MAX(0,MIN(MIN(F11,AB11),(AB11-1)+6/24)-AA11)+MAX(0,MIN(F11,AB11)-MAX(AA11,(AB11-1)+19/24)),"") | AL11: =IF(T11=1,MAX(0,F11-MAX(AA11,AB11)),"") | AM11: =IF(T11=1,MAX(0,MIN(F11,AB11+6/24)-MAX(AA11,AB11))+MAX(0,F11-MAX(MAX(AA11,AB11),AB11+19/24)),"") | AN11: =IF(T11=1,MAX(0,MIN(Z11,AB11)-Y11),"") | AO11: =IF(T11=1,MAX(0,MIN(MIN(Z11,AB11),(AB11-1)+6/24)-Y11)+MAX(0,MIN(Z11,AB11)-MAX(Y11,(AB11-1)+19/24)),"") | AP11: =IF(T11=1,MAX(0,Z11-MAX(Y11,AB11)),"") | AQ11: =IF(T11=1,MAX(0,MIN(Z11,AB11+6/24)-MAX(Y11,AB11))+MAX(0,Z11-MAX(MAX(Y11,AB11),AB11+19/24)),"") | AR11: =IF(T11=1,(AF11-AG11)-AE11*(AN11-AO11),"") | AS11: =IF(T11=1,AG11-AE11*AO11,"") | AT11: =IF(T11=1,(AJ11-AK11)-(1-AE11)*(AN11-AO11),"") | AU11: =IF(T11=1,AK11-(1-AE11)*AO11,"") | AV11: =IF(T11=1,(AH11-AI11)-AE11*(AP11-AQ11),"") | AW11: =IF(T11=1,AI11-AE11*AQ11,"") | AX11: =IF(T11=1,(AL11-AM11)-(1-AE11)*(AP11-AQ11),"") | AY11: =IF(T11=1,AM11-(1-AE11)*AQ11,"")
D12: =IF(J12="","",J12*(K12*INDEX('Parámetros'!$E$5:$E$7,U12)+L12*INDEX('Parámetros'!$F$5:$F$7,U12)+M12*INDEX('Parámetros'!$G$5:$G$7,U12)+N12*INDEX('Parámetros'!$H$5:$H$7,U12)+O12*INDEX('Parámetros'!$I$5:$I$7,U12)+P12*INDEX('Parámetros'!$J$5:$J$7,U12)+Q12*INDEX('Parámetros'!$K$5:$K$7,U12)+R12*INDEX('Parámetros'!$L$5:$L$7,U12)+S12*INDEX('Parámetros'!$M$5:$M$7,U12))) | I12: =IF(AND(E12="",F12=""),"",IF(T12=1,(W12-X12)/60,"Revisa entrada y salida")) | J12: =IF(OR(T12<>1,C12=""),"",C12/INDEX('Parámetros'!$D$5:$D$7,U12)) | K12: =IF(T12=1,ROUND(1440*((1-AC12)*AT12+(1-AD12)*AX12),0)/60,"") | L12: =IF(T12=1,ROUND(1440*((1-AC12)*AU12+(1-AD12)*AY12),0)/60,"") | M12: =IF(T12=1,ROUND(1440*((1-AC12)*AS12+(1-AD12)*AW12),0)/60,"") | N12: =IF(T12=1,ROUND(1440*(IF(OR(H12="Sí",H12="Si",AC12=0),AC12*AR12+AD12*AV12,0)),0)/60,"") | O12: =IF(T12=1,ROUND(1440*(IF(OR(H12="Sí",H12="Si",AC12=0),0,AC12*AR12+AD12*AV12)),0)/60,"") | P12: =IF(T12=1,ROUND(1440*(IF(OR(H12="Sí",H12="Si",AC12=0),AC12*AS12+AD12*AW12,0)),0)/60,"") | Q12: =IF(T12=1,ROUND(1440*(IF(OR(H12="Sí",H12="Si",AC12=0),0,AC12*AS12+AD12*AW12)),0)/60,"") | R12: =IF(T12=1,ROUND(1440*(AC12*AT12+AD12*AX12),0)/60,"") | S12: =IF(T12=1,ROUND(1440*(AC12*AU12+AD12*AY12),0)/60,"") | T12: =IF(AND(ISNUMBER(E12),ISNUMBER(F12)),IF(AND(F12>E12,YEAR(E12)=2026,(F12-E12)*1440<=1140),1,0),0) | U12: =IF(T12=1,MATCH(INT(E12),'Parámetros'!$A$5:$A$7,1),"") | V12: =IF(T12=1,INDEX('Parámetros'!$C$5:$C$7,U12)/24,"") | W12: =IF(T12=1,ROUND((F12-E12)*1440,0),"") | X12: =IF(T12=1,MIN(N(G12),W12),"") | Y12: =IF(T12=1,E12+(INT(W12/2)-INT(X12/2))/1440,"") | Z12: =IF(T12=1,Y12+X12/1440,"") | AA12: =IF(T12=1,MIN(F12,IF(E12+V12<=Y12,E12+V12,E12+V12+X12/1440)),"") | AB12: =IF(T12=1,INT(E12)+1,"") | AC12: =IF(T12=1,IF(OR(WEEKDAY(AB12-1)=1,COUNTIF('Festivos 2026'!$A$5:$A$40,AB12-1)>0),1,0),"") | AD12: =IF(T12=1,IF(OR(WEEKDAY(AB12)=1,COUNTIF('Festivos 2026'!$A$5:$A$40,AB12)>0),1,0),"") | AE12: =IF(T12=1,IF(Z12<=AA12,1,0),"") | AF12: =IF(T12=1,MAX(0,MIN(AA12,AB12)-E12),"") | AG12: =IF(T12=1,MAX(0,MIN(MIN(AA12,AB12),(AB12-1)+6/24)-E12)+MAX(0,MIN(AA12,AB12)-MAX(E12,(AB12-1)+19/24)),"") | AH12: =IF(T12=1,MAX(0,AA12-MAX(E12,AB12)),"") | AI12: =IF(T12=1,MAX(0,MIN(AA12,AB12+6/24)-MAX(E12,AB12))+MAX(0,AA12-MAX(MAX(E12,AB12),AB12+19/24)),"") | AJ12: =IF(T12=1,MAX(0,MIN(F12,AB12)-AA12),"") | AK12: =IF(T12=1,MAX(0,MIN(MIN(F12,AB12),(AB12-1)+6/24)-AA12)+MAX(0,MIN(F12,AB12)-MAX(AA12,(AB12-1)+19/24)),"") | AL12: =IF(T12=1,MAX(0,F12-MAX(AA12,AB12)),"") | AM12: =IF(T12=1,MAX(0,MIN(F12,AB12+6/24)-MAX(AA12,AB12))+MAX(0,F12-MAX(MAX(AA12,AB12),AB12+19/24)),"") | AN12: =IF(T12=1,MAX(0,MIN(Z12,AB12)-Y12),"") | AO12: =IF(T12=1,MAX(0,MIN(MIN(Z12,AB12),(AB12-1)+6/24)-Y12)+MAX(0,MIN(Z12,AB12)-MAX(Y12,(AB12-1)+19/24)),"") | AP12: =IF(T12=1,MAX(0,Z12-MAX(Y12,AB12)),"") | AQ12: =IF(T12=1,MAX(0,MIN(Z12,AB12+6/24)-MAX(Y12,AB12))+MAX(0,Z12-MAX(MAX(Y12,AB12),AB12+19/24)),"") | AR12: =IF(T12=1,(AF12-AG12)-AE12*(AN12-AO12),"") | AS12: =IF(T12=1,AG12-AE12*AO12,"") | AT12: =IF(T12=1,(AJ12-AK12)-(1-AE12)*(AN12-AO12),"") | AU12: =IF(T12=1,AK12-(1-AE12)*AO12,"") | AV12: =IF(T12=1,(AH12-AI12)-AE12*(AP12-AQ12),"") | AW12: =IF(T12=1,AI12-AE12*AQ12,"") | AX12: =IF(T12=1,(AL12-AM12)-(1-AE12)*(AP12-AQ12),"") | AY12: =IF(T12=1,AM12-(1-AE12)*AQ12,"")
D13: =IF(J13="","",J13*(K13*INDEX('Parámetros'!$E$5:$E$7,U13)+L13*INDEX('Parámetros'!$F$5:$F$7,U13)+M13*INDEX('Parámetros'!$G$5:$G$7,U13)+N13*INDEX('Parámetros'!$H$5:$H$7,U13)+O13*INDEX('Parámetros'!$I$5:$I$7,U13)+P13*INDEX('Parámetros'!$J$5:$J$7,U13)+Q13*INDEX('Parámetros'!$K$5:$K$7,U13)+R13*INDEX('Parámetros'!$L$5:$L$7,U13)+S13*INDEX('Parámetros'!$M$5:$M$7,U13))) | I13: =IF(AND(E13="",F13=""),"",IF(T13=1,(W13-X13)/60,"Revisa entrada y salida")) | J13: =IF(OR(T13<>1,C13=""),"",C13/INDEX('Parámetros'!$D$5:$D$7,U13)) | K13: =IF(T13=1,ROUND(1440*((1-AC13)*AT13+(1-AD13)*AX13),0)/60,"") | L13: =IF(T13=1,ROUND(1440*((1-AC13)*AU13+(1-AD13)*AY13),0)/60,"") | M13: =IF(T13=1,ROUND(1440*((1-AC13)*AS13+(1-AD13)*AW13),0)/60,"") | N13: =IF(T13=1,ROUND(1440*(IF(OR(H13="Sí",H13="Si",AC13=0),AC13*AR13+AD13*AV13,0)),0)/60,"") | O13: =IF(T13=1,ROUND(1440*(IF(OR(H13="Sí",H13="Si",AC13=0),0,AC13*AR13+AD13*AV13)),0)/60,"") | P13: =IF(T13=1,ROUND(1440*(IF(OR(H13="Sí",H13="Si",AC13=0),AC13*AS13+AD13*AW13,0)),0)/60,"") | Q13: =IF(T13=1,ROUND(1440*(IF(OR(H13="Sí",H13="Si",AC13=0),0,AC13*AS13+AD13*AW13)),0)/60,"") | R13: =IF(T13=1,ROUND(1440*(AC13*AT13+AD13*AX13),0)/60,"") | S13: =IF(T13=1,ROUND(1440*(AC13*AU13+AD13*AY13),0)/60,"") | T13: =IF(AND(ISNUMBER(E13),ISNUMBER(F13)),IF(AND(F13>E13,YEAR(E13)=2026,(F13-E13)*1440<=1140),1,0),0) | U13: =IF(T13=1,MATCH(INT(E13),'Parámetros'!$A$5:$A$7,1),"") | V13: =IF(T13=1,INDEX('Parámetros'!$C$5:$C$7,U13)/24,"") | W13: =IF(T13=1,ROUND((F13-E13)*1440,0),"") | X13: =IF(T13=1,MIN(N(G13),W13),"") | Y13: =IF(T13=1,E13+(INT(W13/2)-INT(X13/2))/1440,"") | Z13: =IF(T13=1,Y13+X13/1440,"") | AA13: =IF(T13=1,MIN(F13,IF(E13+V13<=Y13,E13+V13,E13+V13+X13/1440)),"") | AB13: =IF(T13=1,INT(E13)+1,"") | AC13: =IF(T13=1,IF(OR(WEEKDAY(AB13-1)=1,COUNTIF('Festivos 2026'!$A$5:$A$40,AB13-1)>0),1,0),"") | AD13: =IF(T13=1,IF(OR(WEEKDAY(AB13)=1,COUNTIF('Festivos 2026'!$A$5:$A$40,AB13)>0),1,0),"") | AE13: =IF(T13=1,IF(Z13<=AA13,1,0),"") | AF13: =IF(T13=1,MAX(0,MIN(AA13,AB13)-E13),"") | AG13: =IF(T13=1,MAX(0,MIN(MIN(AA13,AB13),(AB13-1)+6/24)-E13)+MAX(0,MIN(AA13,AB13)-MAX(E13,(AB13-1)+19/24)),"") | AH13: =IF(T13=1,MAX(0,AA13-MAX(E13,AB13)),"") | AI13: =IF(T13=1,MAX(0,MIN(AA13,AB13+6/24)-MAX(E13,AB13))+MAX(0,AA13-MAX(MAX(E13,AB13),AB13+19/24)),"") | AJ13: =IF(T13=1,MAX(0,MIN(F13,AB13)-AA13),"") | AK13: =IF(T13=1,MAX(0,MIN(MIN(F13,AB13),(AB13-1)+6/24)-AA13)+MAX(0,MIN(F13,AB13)-MAX(AA13,(AB13-1)+19/24)),"") | AL13: =IF(T13=1,MAX(0,F13-MAX(AA13,AB13)),"") | AM13: =IF(T13=1,MAX(0,MIN(F13,AB13+6/24)-MAX(AA13,AB13))+MAX(0,F13-MAX(MAX(AA13,AB13),AB13+19/24)),"") | AN13: =IF(T13=1,MAX(0,MIN(Z13,AB13)-Y13),"") | AO13: =IF(T13=1,MAX(0,MIN(MIN(Z13,AB13),(AB13-1)+6/24)-Y13)+MAX(0,MIN(Z13,AB13)-MAX(Y13,(AB13-1)+19/24)),"") | AP13: =IF(T13=1,MAX(0,Z13-MAX(Y13,AB13)),"") | AQ13: =IF(T13=1,MAX(0,MIN(Z13,AB13+6/24)-MAX(Y13,AB13))+MAX(0,Z13-MAX(MAX(Y13,AB13),AB13+19/24)),"") | AR13: =IF(T13=1,(AF13-AG13)-AE13*(AN13-AO13),"") | AS13: =IF(T13=1,AG13-AE13*AO13,"") | AT13: =IF(T13=1,(AJ13-AK13)-(1-AE13)*(AN13-AO13),"") | AU13: =IF(T13=1,AK13-(1-AE13)*AO13,"") | AV13: =IF(T13=1,(AH13-AI13)-AE13*(AP13-AQ13),"") | AW13: =IF(T13=1,AI13-AE13*AQ13,"") | AX13: =IF(T13=1,(AL13-AM13)-(1-AE13)*(AP13-AQ13),"") | AY13: =IF(T13=1,AM13-(1-AE13)*AQ13,"")
D14: =IF(J14="","",J14*(K14*INDEX('Parámetros'!$E$5:$E$7,U14)+L14*INDEX('Parámetros'!$F$5:$F$7,U14)+M14*INDEX('Parámetros'!$G$5:$G$7,U14)+N14*INDEX('Parámetros'!$H$5:$H$7,U14)+O14*INDEX('Parámetros'!$I$5:$I$7,U14)+P14*INDEX('Parámetros'!$J$5:$J$7,U14)+Q14*INDEX('Parámetros'!$K$5:$K$7,U14)+R14*INDEX('Parámetros'!$L$5:$L$7,U14)+S14*INDEX('Parámetros'!$M$5:$M$7,U14))) | I14: =IF(AND(E14="",F14=""),"",IF(T14=1,(W14-X14)/60,"Revisa entrada y salida")) | J14: =IF(OR(T14<>1,C14=""),"",C14/INDEX('Parámetros'!$D$5:$D$7,U14)) | K14: =IF(T14=1,ROUND(1440*((1-AC14)*AT14+(1-AD14)*AX14),0)/60,"") | L14: =IF(T14=1,ROUND(1440*((1-AC14)*AU14+(1-AD14)*AY14),0)/60,"") | M14: =IF(T14=1,ROUND(1440*((1-AC14)*AS14+(1-AD14)*AW14),0)/60,"") | N14: =IF(T14=1,ROUND(1440*(IF(OR(H14="Sí",H14="Si",AC14=0),AC14*AR14+AD14*AV14,0)),0)/60,"") | O14: =IF(T14=1,ROUND(1440*(IF(OR(H14="Sí",H14="Si",AC14=0),0,AC14*AR14+AD14*AV14)),0)/60,"") | P14: =IF(T14=1,ROUND(1440*(IF(OR(H14="Sí",H14="Si",AC14=0),AC14*AS14+AD14*AW14,0)),0)/60,"") | Q14: =IF(T14=1,ROUND(1440*(IF(OR(H14="Sí",H14="Si",AC14=0),0,AC14*AS14+AD14*AW14)),0)/60,"") | R14: =IF(T14=1,ROUND(1440*(AC14*AT14+AD14*AX14),0)/60,"") | S14: =IF(T14=1,ROUND(1440*(AC14*AU14+AD14*AY14),0)/60,"") | T14: =IF(AND(ISNUMBER(E14),ISNUMBER(F14)),IF(AND(F14>E14,YEAR(E14)=2026,(F14-E14)*1440<=1140),1,0),0) | U14: =IF(T14=1,MATCH(INT(E14),'Parámetros'!$A$5:$A$7,1),"") | V14: =IF(T14=1,INDEX('Parámetros'!$C$5:$C$7,U14)/24,"") | W14: =IF(T14=1,ROUND((F14-E14)*1440,0),"") | X14: =IF(T14=1,MIN(N(G14),W14),"") | Y14: =IF(T14=1,E14+(INT(W14/2)-INT(X14/2))/1440,"") | Z14: =IF(T14=1,Y14+X14/1440,"") | AA14: =IF(T14=1,MIN(F14,IF(E14+V14<=Y14,E14+V14,E14+V14+X14/1440)),"") | AB14: =IF(T14=1,INT(E14)+1,"") | AC14: =IF(T14=1,IF(OR(WEEKDAY(AB14-1)=1,COUNTIF('Festivos 2026'!$A$5:$A$40,AB14-1)>0),1,0),"") | AD14: =IF(T14=1,IF(OR(WEEKDAY(AB14)=1,COUNTIF('Festivos 2026'!$A$5:$A$40,AB14)>0),1,0),"") | AE14: =IF(T14=1,IF(Z14<=AA14,1,0),"") | AF14: =IF(T14=1,MAX(0,MIN(AA14,AB14)-E14),"") | AG14: =IF(T14=1,MAX(0,MIN(MIN(AA14,AB14),(AB14-1)+6/24)-E14)+MAX(0,MIN(AA14,AB14)-MAX(E14,(AB14-1)+19/24)),"") | AH14: =IF(T14=1,MAX(0,AA14-MAX(E14,AB14)),"") | AI14: =IF(T14=1,MAX(0,MIN(AA14,AB14+6/24)-MAX(E14,AB14))+MAX(0,AA14-MAX(MAX(E14,AB14),AB14+19/24)),"") | AJ14: =IF(T14=1,MAX(0,MIN(F14,AB14)-AA14),"") | AK14: =IF(T14=1,MAX(0,MIN(MIN(F14,AB14),(AB14-1)+6/24)-AA14)+MAX(0,MIN(F14,AB14)-MAX(AA14,(AB14-1)+19/24)),"") | AL14: =IF(T14=1,MAX(0,F14-MAX(AA14,AB14)),"") | AM14: =IF(T14=1,MAX(0,MIN(F14,AB14+6/24)-MAX(AA14,AB14))+MAX(0,F14-MAX(MAX(AA14,AB14),AB14+19/24)),"") | AN14: =IF(T14=1,MAX(0,MIN(Z14,AB14)-Y14),"") | AO14: =IF(T14=1,MAX(0,MIN(MIN(Z14,AB14),(AB14-1)+6/24)-Y14)+MAX(0,MIN(Z14,AB14)-MAX(Y14,(AB14-1)+19/24)),"") | AP14: =IF(T14=1,MAX(0,Z14-MAX(Y14,AB14)),"") | AQ14: =IF(T14=1,MAX(0,MIN(Z14,AB14+6/24)-MAX(Y14,AB14))+MAX(0,Z14-MAX(MAX(Y14,AB14),AB14+19/24)),"") | AR14: =IF(T14=1,(AF14-AG14)-AE14*(AN14-AO14),"") | AS14: =IF(T14=1,AG14-AE14*AO14,"") | AT14: =IF(T14=1,(AJ14-AK14)-(1-AE14)*(AN14-AO14),"") | AU14: =IF(T14=1,AK14-(1-AE14)*AO14,"") | AV14: =IF(T14=1,(AH14-AI14)-AE14*(AP14-AQ14),"") | AW14: =IF(T14=1,AI14-AE14*AQ14,"") | AX14: =IF(T14=1,(AL14-AM14)-(1-AE14)*(AP14-AQ14),"") | AY14: =IF(T14=1,AM14-(1-AE14)*AQ14,"")
D15: =IF(J15="","",J15*(K15*INDEX('Parámetros'!$E$5:$E$7,U15)+L15*INDEX('Parámetros'!$F$5:$F$7,U15)+M15*INDEX('Parámetros'!$G$5:$G$7,U15)+N15*INDEX('Parámetros'!$H$5:$H$7,U15)+O15*INDEX('Parámetros'!$I$5:$I$7,U15)+P15*INDEX('Parámetros'!$J$5:$J$7,U15)+Q15*INDEX('Parámetros'!$K$5:$K$7,U15)+R15*INDEX('Parámetros'!$L$5:$L$7,U15)+S15*INDEX('Parámetros'!$M$5:$M$7,U15))) | I15: =IF(AND(E15="",F15=""),"",IF(T15=1,(W15-X15)/60,"Revisa entrada y salida")) | J15: =IF(OR(T15<>1,C15=""),"",C15/INDEX('Parámetros'!$D$5:$D$7,U15)) | K15: =IF(T15=1,ROUND(1440*((1-AC15)*AT15+(1-AD15)*AX15),0)/60,"") | L15: =IF(T15=1,ROUND(1440*((1-AC15)*AU15+(1-AD15)*AY15),0)/60,"") | M15: =IF(T15=1,ROUND(1440*((1-AC15)*AS15+(1-AD15)*AW15),0)/60,"") | N15: =IF(T15=1,ROUND(1440*(IF(OR(H15="Sí",H15="Si",AC15=0),AC15*AR15+AD15*AV15,0)),0)/60,"") | O15: =IF(T15=1,ROUND(1440*(IF(OR(H15="Sí",H15="Si",AC15=0),0,AC15*AR15+AD15*AV15)),0)/60,"") | P15: =IF(T15=1,ROUND(1440*(IF(OR(H15="Sí",H15="Si",AC15=0),AC15*AS15+AD15*AW15,0)),0)/60,"") | Q15: =IF(T15=1,ROUND(1440*(IF(OR(H15="Sí",H15="Si",AC15=0),0,AC15*AS15+AD15*AW15)),0)/60,"") | R15: =IF(T15=1,ROUND(1440*(AC15*AT15+AD15*AX15),0)/60,"") | S15: =IF(T15=1,ROUND(1440*(AC15*AU15+AD15*AY15),0)/60,"") | T15: =IF(AND(ISNUMBER(E15),ISNUMBER(F15)),IF(AND(F15>E15,YEAR(E15)=2026,(F15-E15)*1440<=1140),1,0),0) | U15: =IF(T15=1,MATCH(INT(E15),'Parámetros'!$A$5:$A$7,1),"") | V15: =IF(T15=1,INDEX('Parámetros'!$C$5:$C$7,U15)/24,"") | W15: =IF(T15=1,ROUND((F15-E15)*1440,0),"") | X15: =IF(T15=1,MIN(N(G15),W15),"") | Y15: =IF(T15=1,E15+(INT(W15/2)-INT(X15/2))/1440,"") | Z15: =IF(T15=1,Y15+X15/1440,"") | AA15: =IF(T15=1,MIN(F15,IF(E15+V15<=Y15,E15+V15,E15+V15+X15/1440)),"") | AB15: =IF(T15=1,INT(E15)+1,"") | AC15: =IF(T15=1,IF(OR(WEEKDAY(AB15-1)=1,COUNTIF('Festivos 2026'!$A$5:$A$40,AB15-1)>0),1,0),"") | AD15: =IF(T15=1,IF(OR(WEEKDAY(AB15)=1,COUNTIF('Festivos 2026'!$A$5:$A$40,AB15)>0),1,0),"") | AE15: =IF(T15=1,IF(Z15<=AA15,1,0),"") | AF15: =IF(T15=1,MAX(0,MIN(AA15,AB15)-E15),"") | AG15: =IF(T15=1,MAX(0,MIN(MIN(AA15,AB15),(AB15-1)+6/24)-E15)+MAX(0,MIN(AA15,AB15)-MAX(E15,(AB15-1)+19/24)),"") | AH15: =IF(T15=1,MAX(0,AA15-MAX(E15,AB15)),"") | AI15: =IF(T15=1,MAX(0,MIN(AA15,AB15+6/24)-MAX(E15,AB15))+MAX(0,AA15-MAX(MAX(E15,AB15),AB15+19/24)),"") | AJ15: =IF(T15=1,MAX(0,MIN(F15,AB15)-AA15),"") | AK15: =IF(T15=1,MAX(0,MIN(MIN(F15,AB15),(AB15-1)+6/24)-AA15)+MAX(0,MIN(F15,AB15)-MAX(AA15,(AB15-1)+19/24)),"") | AL15: =IF(T15=1,MAX(0,F15-MAX(AA15,AB15)),"") | AM15: =IF(T15=1,MAX(0,MIN(F15,AB15+6/24)-MAX(AA15,AB15))+MAX(0,F15-MAX(MAX(AA15,AB15),AB15+19/24)),"") | AN15: =IF(T15=1,MAX(0,MIN(Z15,AB15)-Y15),"") | AO15: =IF(T15=1,MAX(0,MIN(MIN(Z15,AB15),(AB15-1)+6/24)-Y15)+MAX(0,MIN(Z15,AB15)-MAX(Y15,(AB15-1)+19/24)),"") | AP15: =IF(T15=1,MAX(0,Z15-MAX(Y15,AB15)),"") | AQ15: =IF(T15=1,MAX(0,MIN(Z15,AB15+6/24)-MAX(Y15,AB15))+MAX(0,Z15-MAX(MAX(Y15,AB15),AB15+19/24)),"") | AR15: =IF(T15=1,(AF15-AG15)-AE15*(AN15-AO15),"") | AS15: =IF(T15=1,AG15-AE15*AO15,"") | AT15: =IF(T15=1,(AJ15-AK15)-(1-AE15)*(AN15-AO15),"") | AU15: =IF(T15=1,AK15-(1-AE15)*AO15,"") | AV15: =IF(T15=1,(AH15-AI15)-AE15*(AP15-AQ15),"") | AW15: =IF(T15=1,AI15-AE15*AQ15,"") | AX15: =IF(T15=1,(AL15-AM15)-(1-AE15)*(AP15-AQ15),"") | AY15: =IF(T15=1,AM15-(1-AE15)*AQ15,"")
D16: =IF(J16="","",J16*(K16*INDEX('Parámetros'!$E$5:$E$7,U16)+L16*INDEX('Parámetros'!$F$5:$F$7,U16)+M16*INDEX('Parámetros'!$G$5:$G$7,U16)+N16*INDEX('Parámetros'!$H$5:$H$7,U16)+O16*INDEX('Parámetros'!$I$5:$I$7,U16)+P16*INDEX('Parámetros'!$J$5:$J$7,U16)+Q16*INDEX('Parámetros'!$K$5:$K$7,U16)+R16*INDEX('Parámetros'!$L$5:$L$7,U16)+S16*INDEX('Parámetros'!$M$5:$M$7,U16))) | I16: =IF(AND(E16="",F16=""),"",IF(T16=1,(W16-X16)/60,"Revisa entrada y salida")) | J16: =IF(OR(T16<>1,C16=""),"",C16/INDEX('Parámetros'!$D$5:$D$7,U16)) | K16: =IF(T16=1,ROUND(1440*((1-AC16)*AT16+(1-AD16)*AX16),0)/60,"") | L16: =IF(T16=1,ROUND(1440*((1-AC16)*AU16+(1-AD16)*AY16),0)/60,"") | M16: =IF(T16=1,ROUND(1440*((1-AC16)*AS16+(1-AD16)*AW16),0)/60,"") | N16: =IF(T16=1,ROUND(1440*(IF(OR(H16="Sí",H16="Si",AC16=0),AC16*AR16+AD16*AV16,0)),0)/60,"") | O16: =IF(T16=1,ROUND(1440*(IF(OR(H16="Sí",H16="Si",AC16=0),0,AC16*AR16+AD16*AV16)),0)/60,"") | P16: =IF(T16=1,ROUND(1440*(IF(OR(H16="Sí",H16="Si",AC16=0),AC16*AS16+AD16*AW16,0)),0)/60,"") | Q16: =IF(T16=1,ROUND(1440*(IF(OR(H16="Sí",H16="Si",AC16=0),0,AC16*AS16+AD16*AW16)),0)/60,"") | R16: =IF(T16=1,ROUND(1440*(AC16*AT16+AD16*AX16),0)/60,"") | S16: =IF(T16=1,ROUND(1440*(AC16*AU16+AD16*AY16),0)/60,"") | T16: =IF(AND(ISNUMBER(E16),ISNUMBER(F16)),IF(AND(F16>E16,YEAR(E16)=2026,(F16-E16)*1440<=1140),1,0),0) | U16: =IF(T16=1,MATCH(INT(E16),'Parámetros'!$A$5:$A$7,1),"") | V16: =IF(T16=1,INDEX('Parámetros'!$C$5:$C$7,U16)/24,"") | W16: =IF(T16=1,ROUND((F16-E16)*1440,0),"") | X16: =IF(T16=1,MIN(N(G16),W16),"") | Y16: =IF(T16=1,E16+(INT(W16/2)-INT(X16/2))/1440,"") | Z16: =IF(T16=1,Y16+X16/1440,"") | AA16: =IF(T16=1,MIN(F16,IF(E16+V16<=Y16,E16+V16,E16+V16+X16/1440)),"") | AB16: =IF(T16=1,INT(E16)+1,"") | AC16: =IF(T16=1,IF(OR(WEEKDAY(AB16-1)=1,COUNTIF('Festivos 2026'!$A$5:$A$40,AB16-1)>0),1,0),"") | AD16: =IF(T16=1,IF(OR(WEEKDAY(AB16)=1,COUNTIF('Festivos 2026'!$A$5:$A$40,AB16)>0),1,0),"") | AE16: =IF(T16=1,IF(Z16<=AA16,1,0),"") | AF16: =IF(T16=1,MAX(0,MIN(AA16,AB16)-E16),"") | AG16: =IF(T16=1,MAX(0,MIN(MIN(AA16,AB16),(AB16-1)+6/24)-E16)+MAX(0,MIN(AA16,AB16)-MAX(E16,(AB16-1)+19/24)),"") | AH16: =IF(T16=1,MAX(0,AA16-MAX(E16,AB16)),"") | AI16: =IF(T16=1,MAX(0,MIN(AA16,AB16+6/24)-MAX(E16,AB16))+MAX(0,AA16-MAX(MAX(E16,AB16),AB16+19/24)),"") | AJ16: =IF(T16=1,MAX(0,MIN(F16,AB16)-AA16),"") | AK16: =IF(T16=1,MAX(0,MIN(MIN(F16,AB16),(AB16-1)+6/24)-AA16)+MAX(0,MIN(F16,AB16)-MAX(AA16,(AB16-1)+19/24)),"") | AL16: =IF(T16=1,MAX(0,F16-MAX(AA16,AB16)),"") | AM16: =IF(T16=1,MAX(0,MIN(F16,AB16+6/24)-MAX(AA16,AB16))+MAX(0,F16-MAX(MAX(AA16,AB16),AB16+19/24)),"") | AN16: =IF(T16=1,MAX(0,MIN(Z16,AB16)-Y16),"") | AO16: =IF(T16=1,MAX(0,MIN(MIN(Z16,AB16),(AB16-1)+6/24)-Y16)+MAX(0,MIN(Z16,AB16)-MAX(Y16,(AB16-1)+19/24)),"") | AP16: =IF(T16=1,MAX(0,Z16-MAX(Y16,AB16)),"") | AQ16: =IF(T16=1,MAX(0,MIN(Z16,AB16+6/24)-MAX(Y16,AB16))+MAX(0,Z16-MAX(MAX(Y16,AB16),AB16+19/24)),"") | AR16: =IF(T16=1,(AF16-AG16)-AE16*(AN16-AO16),"") | AS16: =IF(T16=1,AG16-AE16*AO16,"") | AT16: =IF(T16=1,(AJ16-AK16)-(1-AE16)*(AN16-AO16),"") | AU16: =IF(T16=1,AK16-(1-AE16)*AO16,"") | AV16: =IF(T16=1,(AH16-AI16)-AE16*(AP16-AQ16),"") | AW16: =IF(T16=1,AI16-AE16*AQ16,"") | AX16: =IF(T16=1,(AL16-AM16)-(1-AE16)*(AP16-AQ16),"") | AY16: =IF(T16=1,AM16-(1-AE16)*AQ16,"")
D17: =IF(J17="","",J17*(K17*INDEX('Parámetros'!$E$5:$E$7,U17)+L17*INDEX('Parámetros'!$F$5:$F$7,U17)+M17*INDEX('Parámetros'!$G$5:$G$7,U17)+N17*INDEX('Parámetros'!$H$5:$H$7,U17)+O17*INDEX('Parámetros'!$I$5:$I$7,U17)+P17*INDEX('Parámetros'!$J$5:$J$7,U17)+Q17*INDEX('Parámetros'!$K$5:$K$7,U17)+R17*INDEX('Parámetros'!$L$5:$L$7,U17)+S17*INDEX('Parámetros'!$M$5:$M$7,U17))) | I17: =IF(AND(E17="",F17=""),"",IF(T17=1,(W17-X17)/60,"Revisa entrada y salida")) | J17: =IF(OR(T17<>1,C17=""),"",C17/INDEX('Parámetros'!$D$5:$D$7,U17)) | K17: =IF(T17=1,ROUND(1440*((1-AC17)*AT17+(1-AD17)*AX17),0)/60,"") | L17: =IF(T17=1,ROUND(1440*((1-AC17)*AU17+(1-AD17)*AY17),0)/60,"") | M17: =IF(T17=1,ROUND(1440*((1-AC17)*AS17+(1-AD17)*AW17),0)/60,"") | N17: =IF(T17=1,ROUND(1440*(IF(OR(H17="Sí",H17="Si",AC17=0),AC17*AR17+AD17*AV17,0)),0)/60,"") | O17: =IF(T17=1,ROUND(1440*(IF(OR(H17="Sí",H17="Si",AC17=0),0,AC17*AR17+AD17*AV17)),0)/60,"") | P17: =IF(T17=1,ROUND(1440*(IF(OR(H17="Sí",H17="Si",AC17=0),AC17*AS17+AD17*AW17,0)),0)/60,"") | Q17: =IF(T17=1,ROUND(1440*(IF(OR(H17="Sí",H17="Si",AC17=0),0,AC17*AS17+AD17*AW17)),0)/60,"") | R17: =IF(T17=1,ROUND(1440*(AC17*AT17+AD17*AX17),0)/60,"") | S17: =IF(T17=1,ROUND(1440*(AC17*AU17+AD17*AY17),0)/60,"") | T17: =IF(AND(ISNUMBER(E17),ISNUMBER(F17)),IF(AND(F17>E17,YEAR(E17)=2026,(F17-E17)*1440<=1140),1,0),0) | U17: =IF(T17=1,MATCH(INT(E17),'Parámetros'!$A$5:$A$7,1),"") | V17: =IF(T17=1,INDEX('Parámetros'!$C$5:$C$7,U17)/24,"") | W17: =IF(T17=1,ROUND((F17-E17)*1440,0),"") | X17: =IF(T17=1,MIN(N(G17),W17),"") | Y17: =IF(T17=1,E17+(INT(W17/2)-INT(X17/2))/1440,"") | Z17: =IF(T17=1,Y17+X17/1440,"") | AA17: =IF(T17=1,MIN(F17,IF(E17+V17<=Y17,E17+V17,E17+V17+X17/1440)),"") | AB17: =IF(T17=1,INT(E17)+1,"") | AC17: =IF(T17=1,IF(OR(WEEKDAY(AB17-1)=1,COUNTIF('Festivos 2026'!$A$5:$A$40,AB17-1)>0),1,0),"") | AD17: =IF(T17=1,IF(OR(WEEKDAY(AB17)=1,COUNTIF('Festivos 2026'!$A$5:$A$40,AB17)>0),1,0),"") | AE17: =IF(T17=1,IF(Z17<=AA17,1,0),"") | AF17: =IF(T17=1,MAX(0,MIN(AA17,AB17)-E17),"") | AG17: =IF(T17=1,MAX(0,MIN(MIN(AA17,AB17),(AB17-1)+6/24)-E17)+MAX(0,MIN(AA17,AB17)-MAX(E17,(AB17-1)+19/24)),"") | AH17: =IF(T17=1,MAX(0,AA17-MAX(E17,AB17)),"") | AI17: =IF(T17=1,MAX(0,MIN(AA17,AB17+6/24)-MAX(E17,AB17))+MAX(0,AA17-MAX(MAX(E17,AB17),AB17+19/24)),"") | AJ17: =IF(T17=1,MAX(0,MIN(F17,AB17)-AA17),"") | AK17: =IF(T17=1,MAX(0,MIN(MIN(F17,AB17),(AB17-1)+6/24)-AA17)+MAX(0,MIN(F17,AB17)-MAX(AA17,(AB17-1)+19/24)),"") | AL17: =IF(T17=1,MAX(0,F17-MAX(AA17,AB17)),"") | AM17: =IF(T17=1,MAX(0,MIN(F17,AB17+6/24)-MAX(AA17,AB17))+MAX(0,F17-MAX(MAX(AA17,AB17),AB17+19/24)),"") | AN17: =IF(T17=1,MAX(0,MIN(Z17,AB17)-Y17),"") | AO17: =IF(T17=1,MAX(0,MIN(MIN(Z17,AB17),(AB17-1)+6/24)-Y17)+MAX(0,MIN(Z17,AB17)-MAX(Y17,(AB17-1)+19/24)),"") | AP17: =IF(T17=1,MAX(0,Z17-MAX(Y17,AB17)),"") | AQ17: =IF(T17=1,MAX(0,MIN(Z17,AB17+6/24)-MAX(Y17,AB17))+MAX(0,Z17-MAX(MAX(Y17,AB17),AB17+19/24)),"") | AR17: =IF(T17=1,(AF17-AG17)-AE17*(AN17-AO17),"") | AS17: =IF(T17=1,AG17-AE17*AO17,"") | AT17: =IF(T17=1,(AJ17-AK17)-(1-AE17)*(AN17-AO17),"") | AU17: =IF(T17=1,AK17-(1-AE17)*AO17,"") | AV17: =IF(T17=1,(AH17-AI17)-AE17*(AP17-AQ17),"") | AW17: =IF(T17=1,AI17-AE17*AQ17,"") | AX17: =IF(T17=1,(AL17-AM17)-(1-AE17)*(AP17-AQ17),"") | AY17: =IF(T17=1,AM17-(1-AE17)*AQ17,"")
D18: =IF(J18="","",J18*(K18*INDEX('Parámetros'!$E$5:$E$7,U18)+L18*INDEX('Parámetros'!$F$5:$F$7,U18)+M18*INDEX('Parámetros'!$G$5:$G$7,U18)+N18*INDEX('Parámetros'!$H$5:$H$7,U18)+O18*INDEX('Parámetros'!$I$5:$I$7,U18)+P18*INDEX('Parámetros'!$J$5:$J$7,U18)+Q18*INDEX('Parámetros'!$K$5:$K$7,U18)+R18*INDEX('Parámetros'!$L$5:$L$7,U18)+S18*INDEX('Parámetros'!$M$5:$M$7,U18))) | I18: =IF(AND(E18="",F18=""),"",IF(T18=1,(W18-X18)/60,"Revisa entrada y salida")) | J18: =IF(OR(T18<>1,C18=""),"",C18/INDEX('Parámetros'!$D$5:$D$7,U18)) | K18: =IF(T18=1,ROUND(1440*((1-AC18)*AT18+(1-AD18)*AX18),0)/60,"") | L18: =IF(T18=1,ROUND(1440*((1-AC18)*AU18+(1-AD18)*AY18),0)/60,"") | M18: =IF(T18=1,ROUND(1440*((1-AC18)*AS18+(1-AD18)*AW18),0)/60,"") | N18: =IF(T18=1,ROUND(1440*(IF(OR(H18="Sí",H18="Si",AC18=0),AC18*AR18+AD18*AV18,0)),0)/60,"") | O18: =IF(T18=1,ROUND(1440*(IF(OR(H18="Sí",H18="Si",AC18=0),0,AC18*AR18+AD18*AV18)),0)/60,"") | P18: =IF(T18=1,ROUND(1440*(IF(OR(H18="Sí",H18="Si",AC18=0),AC18*AS18+AD18*AW18,0)),0)/60,"") | Q18: =IF(T18=1,ROUND(1440*(IF(OR(H18="Sí",H18="Si",AC18=0),0,AC18*AS18+AD18*AW18)),0)/60,"") | R18: =IF(T18=1,ROUND(1440*(AC18*AT18+AD18*AX18),0)/60,"") | S18: =IF(T18=1,ROUND(1440*(AC18*AU18+AD18*AY18),0)/60,"") | T18: =IF(AND(ISNUMBER(E18),ISNUMBER(F18)),IF(AND(F18>E18,YEAR(E18)=2026,(F18-E18)*1440<=1140),1,0),0) | U18: =IF(T18=1,MATCH(INT(E18),'Parámetros'!$A$5:$A$7,1),"") | V18: =IF(T18=1,INDEX('Parámetros'!$C$5:$C$7,U18)/24,"") | W18: =IF(T18=1,ROUND((F18-E18)*1440,0),"") | X18: =IF(T18=1,MIN(N(G18),W18),"") | Y18: =IF(T18=1,E18+(INT(W18/2)-INT(X18/2))/1440,"") | Z18: =IF(T18=1,Y18+X18/1440,"") | AA18: =IF(T18=1,MIN(F18,IF(E18+V18<=Y18,E18+V18,E18+V18+X18/1440)),"") | AB18: =IF(T18=1,INT(E18)+1,"") | AC18: =IF(T18=1,IF(OR(WEEKDAY(AB18-1)=1,COUNTIF('Festivos 2026'!$A$5:$A$40,AB18-1)>0),1,0),"") | AD18: =IF(T18=1,IF(OR(WEEKDAY(AB18)=1,COUNTIF('Festivos 2026'!$A$5:$A$40,AB18)>0),1,0),"") | AE18: =IF(T18=1,IF(Z18<=AA18,1,0),"") | AF18: =IF(T18=1,MAX(0,MIN(AA18,AB18)-E18),"") | AG18: =IF(T18=1,MAX(0,MIN(MIN(AA18,AB18),(AB18-1)+6/24)-E18)+MAX(0,MIN(AA18,AB18)-MAX(E18,(AB18-1)+19/24)),"") | AH18: =IF(T18=1,MAX(0,AA18-MAX(E18,AB18)),"") | AI18: =IF(T18=1,MAX(0,MIN(AA18,AB18+6/24)-MAX(E18,AB18))+MAX(0,AA18-MAX(MAX(E18,AB18),AB18+19/24)),"") | AJ18: =IF(T18=1,MAX(0,MIN(F18,AB18)-AA18),"") | AK18: =IF(T18=1,MAX(0,MIN(MIN(F18,AB18),(AB18-1)+6/24)-AA18)+MAX(0,MIN(F18,AB18)-MAX(AA18,(AB18-1)+19/24)),"") | AL18: =IF(T18=1,MAX(0,F18-MAX(AA18,AB18)),"") | AM18: =IF(T18=1,MAX(0,MIN(F18,AB18+6/24)-MAX(AA18,AB18))+MAX(0,F18-MAX(MAX(AA18,AB18),AB18+19/24)),"") | AN18: =IF(T18=1,MAX(0,MIN(Z18,AB18)-Y18),"") | AO18: =IF(T18=1,MAX(0,MIN(MIN(Z18,AB18),(AB18-1)+6/24)-Y18)+MAX(0,MIN(Z18,AB18)-MAX(Y18,(AB18-1)+19/24)),"") | AP18: =IF(T18=1,MAX(0,Z18-MAX(Y18,AB18)),"") | AQ18: =IF(T18=1,MAX(0,MIN(Z18,AB18+6/24)-MAX(Y18,AB18))+MAX(0,Z18-MAX(MAX(Y18,AB18),AB18+19/24)),"") | AR18: =IF(T18=1,(AF18-AG18)-AE18*(AN18-AO18),"") | AS18: =IF(T18=1,AG18-AE18*AO18,"") | AT18: =IF(T18=1,(AJ18-AK18)-(1-AE18)*(AN18-AO18),"") | AU18: =IF(T18=1,AK18-(1-AE18)*AO18,"") | AV18: =IF(T18=1,(AH18-AI18)-AE18*(AP18-AQ18),"") | AW18: =IF(T18=1,AI18-AE18*AQ18,"") | AX18: =IF(T18=1,(AL18-AM18)-(1-AE18)*(AP18-AQ18),"") | AY18: =IF(T18=1,AM18-(1-AE18)*AQ18,"")
D19: =IF(J19="","",J19*(K19*INDEX('Parámetros'!$E$5:$E$7,U19)+L19*INDEX('Parámetros'!$F$5:$F$7,U19)+M19*INDEX('Parámetros'!$G$5:$G$7,U19)+N19*INDEX('Parámetros'!$H$5:$H$7,U19)+O19*INDEX('Parámetros'!$I$5:$I$7,U19)+P19*INDEX('Parámetros'!$J$5:$J$7,U19)+Q19*INDEX('Parámetros'!$K$5:$K$7,U19)+R19*INDEX('Parámetros'!$L$5:$L$7,U19)+S19*INDEX('Parámetros'!$M$5:$M$7,U19))) | I19: =IF(AND(E19="",F19=""),"",IF(T19=1,(W19-X19)/60,"Revisa entrada y salida")) | J19: =IF(OR(T19<>1,C19=""),"",C19/INDEX('Parámetros'!$D$5:$D$7,U19)) | K19: =IF(T19=1,ROUND(1440*((1-AC19)*AT19+(1-AD19)*AX19),0)/60,"") | L19: =IF(T19=1,ROUND(1440*((1-AC19)*AU19+(1-AD19)*AY19),0)/60,"") | M19: =IF(T19=1,ROUND(1440*((1-AC19)*AS19+(1-AD19)*AW19),0)/60,"") | N19: =IF(T19=1,ROUND(1440*(IF(OR(H19="Sí",H19="Si",AC19=0),AC19*AR19+AD19*AV19,0)),0)/60,"") | O19: =IF(T19=1,ROUND(1440*(IF(OR(H19="Sí",H19="Si",AC19=0),0,AC19*AR19+AD19*AV19)),0)/60,"") | P19: =IF(T19=1,ROUND(1440*(IF(OR(H19="Sí",H19="Si",AC19=0),AC19*AS19+AD19*AW19,0)),0)/60,"") | Q19: =IF(T19=1,ROUND(1440*(IF(OR(H19="Sí",H19="Si",AC19=0),0,AC19*AS19+AD19*AW19)),0)/60,"") | R19: =IF(T19=1,ROUND(1440*(AC19*AT19+AD19*AX19),0)/60,"") | S19: =IF(T19=1,ROUND(1440*(AC19*AU19+AD19*AY19),0)/60,"") | T19: =IF(AND(ISNUMBER(E19),ISNUMBER(F19)),IF(AND(F19>E19,YEAR(E19)=2026,(F19-E19)*1440<=1140),1,0),0) | U19: =IF(T19=1,MATCH(INT(E19),'Parámetros'!$A$5:$A$7,1),"") | V19: =IF(T19=1,INDEX('Parámetros'!$C$5:$C$7,U19)/24,"") | W19: =IF(T19=1,ROUND((F19-E19)*1440,0),"") | X19: =IF(T19=1,MIN(N(G19),W19),"") | Y19: =IF(T19=1,E19+(INT(W19/2)-INT(X19/2))/1440,"") | Z19: =IF(T19=1,Y19+X19/1440,"") | AA19: =IF(T19=1,MIN(F19,IF(E19+V19<=Y19,E19+V19,E19+V19+X19/1440)),"") | AB19: =IF(T19=1,INT(E19)+1,"") | AC19: =IF(T19=1,IF(OR(WEEKDAY(AB19-1)=1,COUNTIF('Festivos 2026'!$A$5:$A$40,AB19-1)>0),1,0),"") | AD19: =IF(T19=1,IF(OR(WEEKDAY(AB19)=1,COUNTIF('Festivos 2026'!$A$5:$A$40,AB19)>0),1,0),"") | AE19: =IF(T19=1,IF(Z19<=AA19,1,0),"") | AF19: =IF(T19=1,MAX(0,MIN(AA19,AB19)-E19),"") | AG19: =IF(T19=1,MAX(0,MIN(MIN(AA19,AB19),(AB19-1)+6/24)-E19)+MAX(0,MIN(AA19,AB19)-MAX(E19,(AB19-1)+19/24)),"") | AH19: =IF(T19=1,MAX(0,AA19-MAX(E19,AB19)),"") | AI19: =IF(T19=1,MAX(0,MIN(AA19,AB19+6/24)-MAX(E19,AB19))+MAX(0,AA19-MAX(MAX(E19,AB19),AB19+19/24)),"") | AJ19: =IF(T19=1,MAX(0,MIN(F19,AB19)-AA19),"") | AK19: =IF(T19=1,MAX(0,MIN(MIN(F19,AB19),(AB19-1)+6/24)-AA19)+MAX(0,MIN(F19,AB19)-MAX(AA19,(AB19-1)+19/24)),"") | AL19: =IF(T19=1,MAX(0,F19-MAX(AA19,AB19)),"") | AM19: =IF(T19=1,MAX(0,MIN(F19,AB19+6/24)-MAX(AA19,AB19))+MAX(0,F19-MAX(MAX(AA19,AB19),AB19+19/24)),"") | AN19: =IF(T19=1,MAX(0,MIN(Z19,AB19)-Y19),"") | AO19: =IF(T19=1,MAX(0,MIN(MIN(Z19,AB19),(AB19-1)+6/24)-Y19)+MAX(0,MIN(Z19,AB19)-MAX(Y19,(AB19-1)+19/24)),"") | AP19: =IF(T19=1,MAX(0,Z19-MAX(Y19,AB19)),"") | AQ19: =IF(T19=1,MAX(0,MIN(Z19,AB19+6/24)-MAX(Y19,AB19))+MAX(0,Z19-MAX(MAX(Y19,AB19),AB19+19/24)),"") | AR19: =IF(T19=1,(AF19-AG19)-AE19*(AN19-AO19),"") | AS19: =IF(T19=1,AG19-AE19*AO19,"") | AT19: =IF(T19=1,(AJ19-AK19)-(1-AE19)*(AN19-AO19),"") | AU19: =IF(T19=1,AK19-(1-AE19)*AO19,"") | AV19: =IF(T19=1,(AH19-AI19)-AE19*(AP19-AQ19),"") | AW19: =IF(T19=1,AI19-AE19*AQ19,"") | AX19: =IF(T19=1,(AL19-AM19)-(1-AE19)*(AP19-AQ19),"") | AY19: =IF(T19=1,AM19-(1-AE19)*AQ19,"")
D20: =IF(J20="","",J20*(K20*INDEX('Parámetros'!$E$5:$E$7,U20)+L20*INDEX('Parámetros'!$F$5:$F$7,U20)+M20*INDEX('Parámetros'!$G$5:$G$7,U20)+N20*INDEX('Parámetros'!$H$5:$H$7,U20)+O20*INDEX('Parámetros'!$I$5:$I$7,U20)+P20*INDEX('Parámetros'!$J$5:$J$7,U20)+Q20*INDEX('Parámetros'!$K$5:$K$7,U20)+R20*INDEX('Parámetros'!$L$5:$L$7,U20)+S20*INDEX('Parámetros'!$M$5:$M$7,U20))) | I20: =IF(AND(E20="",F20=""),"",IF(T20=1,(W20-X20)/60,"Revisa entrada y salida")) | J20: =IF(OR(T20<>1,C20=""),"",C20/INDEX('Parámetros'!$D$5:$D$7,U20)) | K20: =IF(T20=1,ROUND(1440*((1-AC20)*AT20+(1-AD20)*AX20),0)/60,"") | L20: =IF(T20=1,ROUND(1440*((1-AC20)*AU20+(1-AD20)*AY20),0)/60,"") | M20: =IF(T20=1,ROUND(1440*((1-AC20)*AS20+(1-AD20)*AW20),0)/60,"") | N20: =IF(T20=1,ROUND(1440*(IF(OR(H20="Sí",H20="Si",AC20=0),AC20*AR20+AD20*AV20,0)),0)/60,"") | O20: =IF(T20=1,ROUND(1440*(IF(OR(H20="Sí",H20="Si",AC20=0),0,AC20*AR20+AD20*AV20)),0)/60,"") | P20: =IF(T20=1,ROUND(1440*(IF(OR(H20="Sí",H20="Si",AC20=0),AC20*AS20+AD20*AW20,0)),0)/60,"") | Q20: =IF(T20=1,ROUND(1440*(IF(OR(H20="Sí",H20="Si",AC20=0),0,AC20*AS20+AD20*AW20)),0)/60,"") | R20: =IF(T20=1,ROUND(1440*(AC20*AT20+AD20*AX20),0)/60,"") | S20: =IF(T20=1,ROUND(1440*(AC20*AU20+AD20*AY20),0)/60,"") | T20: =IF(AND(ISNUMBER(E20),ISNUMBER(F20)),IF(AND(F20>E20,YEAR(E20)=2026,(F20-E20)*1440<=1140),1,0),0) | U20: =IF(T20=1,MATCH(INT(E20),'Parámetros'!$A$5:$A$7,1),"") | V20: =IF(T20=1,INDEX('Parámetros'!$C$5:$C$7,U20)/24,"") | W20: =IF(T20=1,ROUND((F20-E20)*1440,0),"") | X20: =IF(T20=1,MIN(N(G20),W20),"") | Y20: =IF(T20=1,E20+(INT(W20/2)-INT(X20/2))/1440,"") | Z20: =IF(T20=1,Y20+X20/1440,"") | AA20: =IF(T20=1,MIN(F20,IF(E20+V20<=Y20,E20+V20,E20+V20+X20/1440)),"") | AB20: =IF(T20=1,INT(E20)+1,"") | AC20: =IF(T20=1,IF(OR(WEEKDAY(AB20-1)=1,COUNTIF('Festivos 2026'!$A$5:$A$40,AB20-1)>0),1,0),"") | AD20: =IF(T20=1,IF(OR(WEEKDAY(AB20)=1,COUNTIF('Festivos 2026'!$A$5:$A$40,AB20)>0),1,0),"") | AE20: =IF(T20=1,IF(Z20<=AA20,1,0),"") | AF20: =IF(T20=1,MAX(0,MIN(AA20,AB20)-E20),"") | AG20: =IF(T20=1,MAX(0,MIN(MIN(AA20,AB20),(AB20-1)+6/24)-E20)+MAX(0,MIN(AA20,AB20)-MAX(E20,(AB20-1)+19/24)),"") | AH20: =IF(T20=1,MAX(0,AA20-MAX(E20,AB20)),"") | AI20: =IF(T20=1,MAX(0,MIN(AA20,AB20+6/24)-MAX(E20,AB20))+MAX(0,AA20-MAX(MAX(E20,AB20),AB20+19/24)),"") | AJ20: =IF(T20=1,MAX(0,MIN(F20,AB20)-AA20),"") | AK20: =IF(T20=1,MAX(0,MIN(MIN(F20,AB20),(AB20-1)+6/24)-AA20)+MAX(0,MIN(F20,AB20)-MAX(AA20,(AB20-1)+19/24)),"") | AL20: =IF(T20=1,MAX(0,F20-MAX(AA20,AB20)),"") | AM20: =IF(T20=1,MAX(0,MIN(F20,AB20+6/24)-MAX(AA20,AB20))+MAX(0,F20-MAX(MAX(AA20,AB20),AB20+19/24)),"") | AN20: =IF(T20=1,MAX(0,MIN(Z20,AB20)-Y20),"") | AO20: =IF(T20=1,MAX(0,MIN(MIN(Z20,AB20),(AB20-1)+6/24)-Y20)+MAX(0,MIN(Z20,AB20)-MAX(Y20,(AB20-1)+19/24)),"") | AP20: =IF(T20=1,MAX(0,Z20-MAX(Y20,AB20)),"") | AQ20: =IF(T20=1,MAX(0,MIN(Z20,AB20+6/24)-MAX(Y20,AB20))+MAX(0,Z20-MAX(MAX(Y20,AB20),AB20+19/24)),"") | AR20: =IF(T20=1,(AF20-AG20)-AE20*(AN20-AO20),"") | AS20: =IF(T20=1,AG20-AE20*AO20,"") | AT20: =IF(T20=1,(AJ20-AK20)-(1-AE20)*(AN20-AO20),"") | AU20: =IF(T20=1,AK20-(1-AE20)*AO20,"") | AV20: =IF(T20=1,(AH20-AI20)-AE20*(AP20-AQ20),"") | AW20: =IF(T20=1,AI20-AE20*AQ20,"") | AX20: =IF(T20=1,(AL20-AM20)-(1-AE20)*(AP20-AQ20),"") | AY20: =IF(T20=1,AM20-(1-AE20)*AQ20,"")
D21: =IF(J21="","",J21*(K21*INDEX('Parámetros'!$E$5:$E$7,U21)+L21*INDEX('Parámetros'!$F$5:$F$7,U21)+M21*INDEX('Parámetros'!$G$5:$G$7,U21)+N21*INDEX('Parámetros'!$H$5:$H$7,U21)+O21*INDEX('Parámetros'!$I$5:$I$7,U21)+P21*INDEX('Parámetros'!$J$5:$J$7,U21)+Q21*INDEX('Parámetros'!$K$5:$K$7,U21)+R21*INDEX('Parámetros'!$L$5:$L$7,U21)+S21*INDEX('Parámetros'!$M$5:$M$7,U21))) | I21: =IF(AND(E21="",F21=""),"",IF(T21=1,(W21-X21)/60,"Revisa entrada y salida")) | J21: =IF(OR(T21<>1,C21=""),"",C21/INDEX('Parámetros'!$D$5:$D$7,U21)) | K21: =IF(T21=1,ROUND(1440*((1-AC21)*AT21+(1-AD21)*AX21),0)/60,"") | L21: =IF(T21=1,ROUND(1440*((1-AC21)*AU21+(1-AD21)*AY21),0)/60,"") | M21: =IF(T21=1,ROUND(1440*((1-AC21)*AS21+(1-AD21)*AW21),0)/60,"") | N21: =IF(T21=1,ROUND(1440*(IF(OR(H21="Sí",H21="Si",AC21=0),AC21*AR21+AD21*AV21,0)),0)/60,"") | O21: =IF(T21=1,ROUND(1440*(IF(OR(H21="Sí",H21="Si",AC21=0),0,AC21*AR21+AD21*AV21)),0)/60,"") | P21: =IF(T21=1,ROUND(1440*(IF(OR(H21="Sí",H21="Si",AC21=0),AC21*AS21+AD21*AW21,0)),0)/60,"") | Q21: =IF(T21=1,ROUND(1440*(IF(OR(H21="Sí",H21="Si",AC21=0),0,AC21*AS21+AD21*AW21)),0)/60,"") | R21: =IF(T21=1,ROUND(1440*(AC21*AT21+AD21*AX21),0)/60,"") | S21: =IF(T21=1,ROUND(1440*(AC21*AU21+AD21*AY21),0)/60,"") | T21: =IF(AND(ISNUMBER(E21),ISNUMBER(F21)),IF(AND(F21>E21,YEAR(E21)=2026,(F21-E21)*1440<=1140),1,0),0) | U21: =IF(T21=1,MATCH(INT(E21),'Parámetros'!$A$5:$A$7,1),"") | V21: =IF(T21=1,INDEX('Parámetros'!$C$5:$C$7,U21)/24,"") | W21: =IF(T21=1,ROUND((F21-E21)*1440,0),"") | X21: =IF(T21=1,MIN(N(G21),W21),"") | Y21: =IF(T21=1,E21+(INT(W21/2)-INT(X21/2))/1440,"") | Z21: =IF(T21=1,Y21+X21/1440,"") | AA21: =IF(T21=1,MIN(F21,IF(E21+V21<=Y21,E21+V21,E21+V21+X21/1440)),"") | AB21: =IF(T21=1,INT(E21)+1,"") | AC21: =IF(T21=1,IF(OR(WEEKDAY(AB21-1)=1,COUNTIF('Festivos 2026'!$A$5:$A$40,AB21-1)>0),1,0),"") | AD21: =IF(T21=1,IF(OR(WEEKDAY(AB21)=1,COUNTIF('Festivos 2026'!$A$5:$A$40,AB21)>0),1,0),"") | AE21: =IF(T21=1,IF(Z21<=AA21,1,0),"") | AF21: =IF(T21=1,MAX(0,MIN(AA21,AB21)-E21),"") | AG21: =IF(T21=1,MAX(0,MIN(MIN(AA21,AB21),(AB21-1)+6/24)-E21)+MAX(0,MIN(AA21,AB21)-MAX(E21,(AB21-1)+19/24)),"") | AH21: =IF(T21=1,MAX(0,AA21-MAX(E21,AB21)),"") | AI21: =IF(T21=1,MAX(0,MIN(AA21,AB21+6/24)-MAX(E21,AB21))+MAX(0,AA21-MAX(MAX(E21,AB21),AB21+19/24)),"") | AJ21: =IF(T21=1,MAX(0,MIN(F21,AB21)-AA21),"") | AK21: =IF(T21=1,MAX(0,MIN(MIN(F21,AB21),(AB21-1)+6/24)-AA21)+MAX(0,MIN(F21,AB21)-MAX(AA21,(AB21-1)+19/24)),"") | AL21: =IF(T21=1,MAX(0,F21-MAX(AA21,AB21)),"") | AM21: =IF(T21=1,MAX(0,MIN(F21,AB21+6/24)-MAX(AA21,AB21))+MAX(0,F21-MAX(MAX(AA21,AB21),AB21+19/24)),"") | AN21: =IF(T21=1,MAX(0,MIN(Z21,AB21)-Y21),"") | AO21: =IF(T21=1,MAX(0,MIN(MIN(Z21,AB21),(AB21-1)+6/24)-Y21)+MAX(0,MIN(Z21,AB21)-MAX(Y21,(AB21-1)+19/24)),"") | AP21: =IF(T21=1,MAX(0,Z21-MAX(Y21,AB21)),"") | AQ21: =IF(T21=1,MAX(0,MIN(Z21,AB21+6/24)-MAX(Y21,AB21))+MAX(0,Z21-MAX(MAX(Y21,AB21),AB21+19/24)),"") | AR21: =IF(T21=1,(AF21-AG21)-AE21*(AN21-AO21),"") | AS21: =IF(T21=1,AG21-AE21*AO21,"") | AT21: =IF(T21=1,(AJ21-AK21)-(1-AE21)*(AN21-AO21),"") | AU21: =IF(T21=1,AK21-(1-AE21)*AO21,"") | AV21: =IF(T21=1,(AH21-AI21)-AE21*(AP21-AQ21),"") | AW21: =IF(T21=1,AI21-AE21*AQ21,"") | AX21: =IF(T21=1,(AL21-AM21)-(1-AE21)*(AP21-AQ21),"") | AY21: =IF(T21=1,AM21-(1-AE21)*AQ21,"")
